FILENAME: O4811218.SWS.945065.tif
QUADRANGLE_NAME: RIMROCK BUTTE
QUADRANT: SW
WEST_LONGITUDE: -112 52 30.00000
EAST_LONGITUDE: -112 48 45.00000
NORTH_LATITUDE: 48 41 15.00000
SOUTH_LATITUDE: 48 37 30.00000
PRODUCTION_DATE: 1998 10 02
RASTER_ORDER: LEFT_RIGHT/TOP_BOTTOM
BAND_ORGANIZATION: SINGLE FILE
BAND_CONTENT: BLACK&WHITE
BAND_CONTENT: UNDEFINED
BAND_CONTENT: UNDEFINED
BITS_PER_PIXEL: 8
SAMPLES_AND_LINES: 5490 7680
HORIZONTAL_DATUM: NAD83
HORIZONTAL_COORDINATE_SYSTEM: UTM
COORDINATE_ZONE: 12
HORIZONTAL_UNITS: METERS
HORIZONTAL_RESOLUTION: 1.00000
SECONDARY_HORIZONTAL_DATUM: NAD27
XY_ORIGIN: 361440.00000 5394720.00000
SECONDARY_XY_ORIGIN: 361502.97500 5394501.79100
NATION: US
STATE: MT
NW_QUAD_CORNER_XY: 362004.98100 5394413.85300
NE_QUAD_CORNER_XY: 366604.61600 5394302.63800
SE_QUAD_CORNERY_XY: 366439.57300 5387355.66500
SW_QUAD_CORNER_XY: 361834.24400 5387466.91100
SECONDARY_NW_QUAD_XY: 362000.57700 5394194.91400
SECONDARY_NE_QUAD_XY: 366600.35900 5394083.69600
SECONDARY_SE_QUAD_XY: 366435.31600 5387136.72800
SECONDARY_SW_QUAD_XY: 361829.84000 5387247.97800
RMSE_XY: 1.07700
IMAGE_SOURCE: BLACK AND WHITE FILM
SOURCE_IMAGE_ID: NAPP 8385 104
SOURCE_IMAGE_DATE: 1995 08 05
SOURCE_DEM_DATE: 1968 01 01
AGENCY: WESTERN MAPPING CENTER (WMC)
PRODUCER: ANALYTICAL SURVEYS INC.
PRODUCTION_SYSTEM: ORBIT OR_RECTIFY V.5.2
COMPRESSION: UNDEFINED
STANDARD_VERSION: 1996 12
METADATA_DATE: 1998 10 02
DATA_FILE_SIZE: 42168690
BYTE_COUNT: 5490
