FILENAME: O4811216.SWS.46045.tif
QUADRANGLE_NAME: MOUNTAIN VIEW SCHOOL
QUADRANT: SW
WEST_LONGITUDE: -112 7 30.00000
EAST_LONGITUDE: -112 3 45.00000
NORTH_LATITUDE: 48 48 45.00000
SOUTH_LATITUDE: 48 45 0.00000
PRODUCTION_DATE: 1995 6 27
RASTER_ORDER: LEFT_RIGHT/TOP_BOTTOM
BAND_ORGANIZATION: SINGLE FILE
BAND_CONTENT: BLACK&WHITE
BAND_CONTENT: UNDEFINED
BAND_CONTENT: UNDEFINED
BITS_PER_PIXEL: 8
SAMPLES_AND_LINES: 5302 7624
HORIZONTAL_DATUM: NAD83
HORIZONTAL_COORDINATE_SYSTEM: UTM
COORDINATE_ZONE: 12
HORIZONTAL_UNITS: METERS
HORIZONTAL_RESOLUTION: 1.00000
SECONDARY_HORIZONTAL_DATUM: NAD27
XY_ORIGIN: 416999.50000 5407527.50000
SECONDARY_XY_ORIGIN: 417061.50300 5407308.61100
NATION: US
STATE: MT
NW_QUAD_CORNER_XY: 417406.92900 5407222.89000
NE_QUAD_CORNER_XY: 421995.36200 5407156.96400
SE_QUAD_CORNERY_XY: 421898.44200 5400209.55600
SW_QUAD_CORNER_XY: 417304.30700 5400275.50100
SECONDARY_NW_QUAD_XY: 417404.28700 5407003.90700
SECONDARY_NE_QUAD_XY: 421992.86600 5406937.97900
SECONDARY_SE_QUAD_XY: 421895.94700 5399990.57600
SECONDARY_SW_QUAD_XY: 417301.66500 5400056.52200
RMSE_XY: 2.30000
IMAGE_SOURCE: BLACK AND WHITE FILM
SOURCE_IMAGE_ID: NAPP 2566 058
SOURCE_IMAGE_DATE: 1990 6 26
SOURCE_DEM_DATE: 1995 6 27
AGENCY: WESTERN MAPPING CENTER (WMC)
PRODUCER: Woolpert Consultants
PRODUCTION_SYSTEM: INTERGRAPH ISPM,ISIR
COMPRESSION: UNDEFINED
STANDARD_VERSION: 1996 12
METADATA_DATE: 1997 6 15
DATA_FILE_SIZE: 40427750
BYTE_COUNT: 5302
