FILENAME: O4811215.NES.938467.tif
QUADRANGLE_NAME: GLACIER COLONY
QUADRANT: NE
WEST_LONGITUDE: -112 11 15.00000
EAST_LONGITUDE: -112 7 30.00000
NORTH_LATITUDE: 48 52 30.00000
SOUTH_LATITUDE: 48 48 45.00000
PRODUCTION_DATE: 1998 12 08
RASTER_ORDER: LEFT_RIGHT/TOP_BOTTOM
BAND_ORGANIZATION: SINGLE FILE
BAND_CONTENT: BLACK&WHITE
BAND_CONTENT: UNDEFINED
BAND_CONTENT: UNDEFINED
BITS_PER_PIXEL: 8
SAMPLES_AND_LINES: 5370 7650
HORIZONTAL_DATUM: NAD83
HORIZONTAL_COORDINATE_SYSTEM: UTM
COORDINATE_ZONE: 12
HORIZONTAL_UNITS: METERS
HORIZONTAL_RESOLUTION: 1.00000
SECONDARY_HORIZONTAL_DATUM: NAD27
XY_ORIGIN: 412440.00000 5414550.00000
SECONDARY_XY_ORIGIN: 412502.06600 5414330.90500
NATION: US
STATE: MT
NW_QUAD_CORNER_XY: 412926.93900 5414240.02400
NE_QUAD_CORNER_XY: 417509.65000 5414170.35100
SE_QUAD_CORNERY_XY: 417406.92900 5407222.89000
SW_QUAD_CORNER_XY: 412818.51000 5407292.58300
SECONDARY_NW_QUAD_XY: 412924.14900 5414021.04000
SECONDARY_NE_QUAD_XY: 417507.00800 5413951.36500
SECONDARY_SE_QUAD_XY: 417404.28700 5407003.90700
SECONDARY_SW_QUAD_XY: 412815.72000 5407073.60200
RMSE_XY: 1.32000
IMAGE_SOURCE: BLACK AND WHITE FILM
SOURCE_IMAGE_ID: NAPP 8380 85
SOURCE_IMAGE_DATE: 1995 07 01
SOURCE_DEM_DATE: 1968 00 00
AGENCY: WESTERN MAPPING CENTER (WMC)
PRODUCER: ANALYTICAL SURVEYS INC.
PRODUCTION_SYSTEM: ORBIT OR_RECTIFY V.5.2
COMPRESSION: UNDEFINED
STANDARD_VERSION: 1996 12
METADATA_DATE: 1998 12 10
DATA_FILE_SIZE: 41085870
BYTE_COUNT: 5370
