FILENAME: O4811215.SES.938469.tif
QUADRANGLE_NAME: GLACIER COLONY
QUADRANT: SE
WEST_LONGITUDE: -112 11 15.00000
EAST_LONGITUDE: -112 7 30.00000
NORTH_LATITUDE: 48 48 45.00000
SOUTH_LATITUDE: 48 45 0.00000
PRODUCTION_DATE: 1998 12 09
RASTER_ORDER: LEFT_RIGHT/TOP_BOTTOM
BAND_ORGANIZATION: SINGLE FILE
BAND_CONTENT: BLACK&WHITE
BAND_CONTENT: UNDEFINED
BAND_CONTENT: UNDEFINED
BITS_PER_PIXEL: 8
SAMPLES_AND_LINES: 5400 7650
HORIZONTAL_DATUM: NAD83
HORIZONTAL_COORDINATE_SYSTEM: UTM
COORDINATE_ZONE: 12
HORIZONTAL_UNITS: METERS
HORIZONTAL_RESOLUTION: 1.00000
SECONDARY_HORIZONTAL_DATUM: NAD27
XY_ORIGIN: 412320.00000 5407620.00000
SECONDARY_XY_ORIGIN: 412382.03500 5407401.12900
NATION: US
STATE: MT
NW_QUAD_CORNER_XY: 412818.51000 5407292.58300
NE_QUAD_CORNER_XY: 417406.92900 5407222.89000
SE_QUAD_CORNERY_XY: 417304.30700 5400275.50100
SW_QUAD_CORNER_XY: 412710.18500 5400345.21400
SECONDARY_NW_QUAD_XY: 412815.72000 5407073.60200
SECONDARY_NE_QUAD_XY: 417404.28700 5407003.90700
SECONDARY_SE_QUAD_XY: 417301.66500 5400056.52200
SECONDARY_SW_QUAD_XY: 412707.39600 5400126.23800
RMSE_XY: 1.19000
IMAGE_SOURCE: BLACK AND WHITE FILM
SOURCE_IMAGE_ID: NAPP 8380 83
SOURCE_IMAGE_DATE: 1995 07 01
SOURCE_DEM_DATE: 1968 00 00
AGENCY: WESTERN MAPPING CENTER (WMC)
PRODUCER: ANALYTICAL SURVEYS INC.
PRODUCTION_SYSTEM: ORBIT OR_RECTIFY V.5.2
COMPRESSION: UNDEFINED
STANDARD_VERSION: 1996 12
METADATA_DATE: 1998 12 10
DATA_FILE_SIZE: 41315400
BYTE_COUNT: 5400
