FILENAME: O4811213.SWS.938434.tif
QUADRANGLE_NAME: DEAD INDIAN SPRING
QUADRANT: SW
WEST_LONGITUDE: -112 30 0.00000
EAST_LONGITUDE: -112 26 15.00000
NORTH_LATITUDE: 48 48 45.00000
SOUTH_LATITUDE: 48 45 0.00000
PRODUCTION_DATE: 1998 12 07
RASTER_ORDER: LEFT_RIGHT/TOP_BOTTOM
BAND_ORGANIZATION: SINGLE FILE
BAND_CONTENT: BLACK&WHITE
BAND_CONTENT: UNDEFINED
BAND_CONTENT: UNDEFINED
BITS_PER_PIXEL: 8
SAMPLES_AND_LINES: 5400 7650
HORIZONTAL_DATUM: NAD83
HORIZONTAL_COORDINATE_SYSTEM: UTM
COORDINATE_ZONE: 12
HORIZONTAL_UNITS: METERS
HORIZONTAL_RESOLUTION: 1.00000
SECONDARY_HORIZONTAL_DATUM: NAD27
XY_ORIGIN: 389370.00000 5408010.00000
SECONDARY_XY_ORIGIN: 389432.42900 5407791.24700
NATION: US
STATE: MT
NW_QUAD_CORNER_XY: 389876.63000 5407697.57500
NE_QUAD_CORNER_XY: 394464.97400 5407609.03900
SE_QUAD_CORNERY_XY: 394333.83800 5400661.76100
SW_QUAD_CORNER_XY: 389739.79000 5400750.32200
SECONDARY_NW_QUAD_XY: 389873.10600 5407478.60700
SECONDARY_NE_QUAD_XY: 394461.59800 5407390.06900
SECONDARY_SE_QUAD_XY: 394330.46100 5400442.79500
SECONDARY_SW_QUAD_XY: 389736.26600 5400531.35800
RMSE_XY: 0.90000
IMAGE_SOURCE: BLACK AND WHITE FILM
SOURCE_IMAGE_ID: NAPP 8384 214
SOURCE_IMAGE_DATE: 1995 08 05
SOURCE_DEM_DATE: 1968 00 00
AGENCY: WESTERN MAPPING CENTER (WMC)
PRODUCER: ANALYTICAL SURVEYS INC.
PRODUCTION_SYSTEM: ORBIT OR_RECTIFY V.5.2
COMPRESSION: UNDEFINED
STANDARD_VERSION: 1996 12
METADATA_DATE: 1998 12 09
DATA_FILE_SIZE: 41315400
BYTE_COUNT: 5400
