FILENAME: O4811212.NWS.938420.tif
QUADRANGLE_NAME: ROCKY BUTTES
QUADRANT: NW
WEST_LONGITUDE: -112 37 30.00000
EAST_LONGITUDE: -112 33 45.00000
NORTH_LATITUDE: 48 52 30.00000
SOUTH_LATITUDE: 48 48 45.00000
PRODUCTION_DATE: 1998 11 25
RASTER_ORDER: LEFT_RIGHT/TOP_BOTTOM
BAND_ORGANIZATION: SINGLE FILE
BAND_CONTENT: BLACK&WHITE
BAND_CONTENT: UNDEFINED
BAND_CONTENT: UNDEFINED
BITS_PER_PIXEL: 8
SAMPLES_AND_LINES: 5430 7680
HORIZONTAL_DATUM: NAD83
HORIZONTAL_COORDINATE_SYSTEM: UTM
COORDINATE_ZONE: 12
HORIZONTAL_UNITS: METERS
HORIZONTAL_RESOLUTION: 1.00000
SECONDARY_HORIZONTAL_DATUM: NAD27
XY_ORIGIN: 380310.00000 5415150.00000
SECONDARY_XY_ORIGIN: 380372.58600 5414931.04300
NATION: US
STATE: MT
NW_QUAD_CORNER_XY: 380848.38600 5414833.22100
NE_QUAD_CORNER_XY: 385430.98500 5414737.17500
SE_QUAD_CORNERY_XY: 385288.30300 5407789.87900
SW_QUAD_CORNER_XY: 380699.99400 5407885.95200
SECONDARY_NW_QUAD_XY: 380844.56800 5414614.25600
SECONDARY_NE_QUAD_XY: 385427.31400 5414518.20700
SECONDARY_SE_QUAD_XY: 385284.63300 5407570.91400
SECONDARY_SW_QUAD_XY: 380696.17700 5407666.99100
RMSE_XY: 1.13900
IMAGE_SOURCE: BLACK AND WHITE FILM
SOURCE_IMAGE_ID: NAPP 8384 227
SOURCE_IMAGE_DATE: 1995 08 05
SOURCE_DEM_DATE: 1968 01 01
AGENCY: WESTERN MAPPING CENTER (WMC)
PRODUCER: ANALYTICAL SURVEYS INC.
PRODUCTION_SYSTEM: ORBIT OR_RECTIFY V.5.2
COMPRESSION: UNDEFINED
STANDARD_VERSION: 1996 12
METADATA_DATE: 1998 12 10
DATA_FILE_SIZE: 41707830
BYTE_COUNT: 5430
