FILENAME: O4811210.NWS.945059.tif
QUADRANGLE_NAME: RIMROCK RANCH
QUADRANT: NW
WEST_LONGITUDE: -112 52 30.00000
EAST_LONGITUDE: -112 48 45.00000
NORTH_LATITUDE: 48 52 30.00000
SOUTH_LATITUDE: 48 48 45.00000
PRODUCTION_DATE: 1998 10 02
RASTER_ORDER: LEFT_RIGHT/TOP_BOTTOM
BAND_ORGANIZATION: SINGLE FILE
BAND_CONTENT: BLACK&WHITE
BAND_CONTENT: UNDEFINED
BAND_CONTENT: UNDEFINED
BITS_PER_PIXEL: 8
SAMPLES_AND_LINES: 5460 7680
HORIZONTAL_DATUM: NAD83
HORIZONTAL_COORDINATE_SYSTEM: UTM
COORDINATE_ZONE: 12
HORIZONTAL_UNITS: METERS
HORIZONTAL_RESOLUTION: 1.00000
SECONDARY_HORIZONTAL_DATUM: NAD27
XY_ORIGIN: 361950.00000 5415570.00000
SECONDARY_XY_ORIGIN: 362012.89500 5415351.12000
NATION: US
STATE: MT
NW_QUAD_CORNER_XY: 362518.18600 5415255.08500
NE_QUAD_CORNER_XY: 367100.70500 5415143.96600
SE_QUAD_CORNERY_XY: 366935.18200 5408196.78900
SW_QUAD_CORNER_XY: 362346.95300 5408307.94000
SECONDARY_NW_QUAD_XY: 362513.78100 5415036.13400
SECONDARY_NE_QUAD_XY: 367096.44700 5414925.01100
SECONDARY_SE_QUAD_XY: 366930.92500 5407977.83700
SECONDARY_SW_QUAD_XY: 362342.54800 5408088.99200
RMSE_XY: 1.43900
IMAGE_SOURCE: BLACK AND WHITE FILM
SOURCE_IMAGE_ID: NAPP 8385 98
SOURCE_IMAGE_DATE: 1995 08 05
SOURCE_DEM_DATE: 1968 01 01
AGENCY: WESTERN MAPPING CENTER (WMC)
PRODUCER: ANALYTICAL SURVEYS INC.
PRODUCTION_SYSTEM: ORBIT OR_RECTIFY V.5.2
COMPRESSION: UNDEFINED
STANDARD_VERSION: 1996 12
METADATA_DATE: 1998 10 02
DATA_FILE_SIZE: 41938260
BYTE_COUNT: 5460
