FILENAME: O4811210.SES.945060.tif
QUADRANGLE_NAME: RIMROCK RANCH
QUADRANT: SE
WEST_LONGITUDE: -112 48 45.00000
EAST_LONGITUDE: -112 45 0.00000
NORTH_LATITUDE: 48 48 45.00000
SOUTH_LATITUDE: 48 45 0.00000
PRODUCTION_DATE: 1998 10 02
RASTER_ORDER: LEFT_RIGHT/TOP_BOTTOM
BAND_ORGANIZATION: SINGLE FILE
BAND_CONTENT: BLACK&WHITE
BAND_CONTENT: UNDEFINED
BAND_CONTENT: UNDEFINED
BITS_PER_PIXEL: 8
SAMPLES_AND_LINES: 5460 7680
HORIZONTAL_DATUM: NAD83
HORIZONTAL_COORDINATE_SYSTEM: UTM
COORDINATE_ZONE: 12
HORIZONTAL_UNITS: METERS
HORIZONTAL_RESOLUTION: 1.00000
SECONDARY_HORIZONTAL_DATUM: NAD27
XY_ORIGIN: 366390.00000 5408520.00000
SECONDARY_XY_ORIGIN: 366452.89500 5408301.32600
NATION: US
STATE: MT
NW_QUAD_CORNER_XY: 366935.18200 5408196.78900
NE_QUAD_CORNER_XY: 371523.43300 5408089.40700
SE_QUAD_CORNERY_XY: 371363.77500 5401142.26700
SW_QUAD_CORNER_XY: 366769.81900 5401249.67900
SECONDARY_NW_QUAD_XY: 366930.92500 5407977.83700
SECONDARY_NE_QUAD_XY: 371519.32200 5407870.45200
SECONDARY_SE_QUAD_XY: 371359.66400 5400923.31600
SECONDARY_SW_QUAD_XY: 366765.56200 5401030.73200
RMSE_XY: 1.82800
IMAGE_SOURCE: BLACK AND WHITE FILM
SOURCE_IMAGE_ID: NAPP 8385 21
SOURCE_IMAGE_DATE: 1995 08 05
SOURCE_DEM_DATE: 1968 01 01
AGENCY: WESTERN MAPPING CENTER (WMC)
PRODUCER: ANALYTICAL SURVEYS INC.
PRODUCTION_SYSTEM: ORBIT OR_RECTIFY V.5.2
COMPRESSION: UNDEFINED
STANDARD_VERSION: 1996 12
METADATA_DATE: 1998 10 02
DATA_FILE_SIZE: 41938260
BYTE_COUNT: 5460
