FILENAME: O4811209.SES.46620.tif
QUADRANGLE_NAME: NIGHTSHOOT COULEE
QUADRANT: SE
WEST_LONGITUDE: -112 56 15.00000
EAST_LONGITUDE: -112 52 30.00000
NORTH_LATITUDE: 48 48 45.00000
SOUTH_LATITUDE: 48 45 0.00000
PRODUCTION_DATE: 1994 12 22
RASTER_ORDER: LEFT_RIGHT/TOP_BOTTOM
BAND_ORGANIZATION: SINGLE FILE
BAND_CONTENT: BLACK&WHITE
BAND_CONTENT: UNDEFINED
BAND_CONTENT: UNDEFINED
BITS_PER_PIXEL: 8
SAMPLES_AND_LINES: 5435 7665
HORIZONTAL_DATUM: NAD83
HORIZONTAL_COORDINATE_SYSTEM: UTM
COORDINATE_ZONE: 12
HORIZONTAL_UNITS: METERS
HORIZONTAL_RESOLUTION: 1.00000
SECONDARY_HORIZONTAL_DATUM: NAD27
XY_ORIGIN: 357213.00000 5408723.00000
SECONDARY_XY_ORIGIN: 357276.03000 5408504.38500
NATION: US
STATE: MT
NW_QUAD_CORNER_XY: 357758.74400 5408422.86100
NE_QUAD_CORNER_XY: 362346.95300 5408307.94000
SE_QUAD_CORNERY_XY: 362175.88400 5401360.86200
SW_QUAD_CORNER_XY: 357581.97000 5401475.81700
SECONDARY_NW_QUAD_XY: 357754.19300 5408203.91700
SECONDARY_NE_QUAD_XY: 362342.54800 5408088.99200
SECONDARY_SE_QUAD_XY: 362171.48000 5401141.91800
SECONDARY_SW_QUAD_XY: 357577.41900 5401256.87700
RMSE_XY: 0.70000
IMAGE_SOURCE: BLACK AND WHITE FILM
SOURCE_IMAGE_ID: NAPP 2569 091
SOURCE_IMAGE_DATE: 1990 7 12
SOURCE_DEM_DATE: 1994 12 22
AGENCY: WESTERN MAPPING CENTER (WMC)
PRODUCER: Science Applications International
PRODUCTION_SYSTEM: GIS/MAGIC
COMPRESSION: UNDEFINED
STANDARD_VERSION: 1996 12
METADATA_DATE: 1997 7 4
DATA_FILE_SIZE: 41664710
BYTE_COUNT: 5435
