FILENAME: O4811207.SES.938465.tif
QUADRANGLE_NAME: FITZPATRICK LAKE
QUADRANT: SE
WEST_LONGITUDE: -112 11 15.00000
EAST_LONGITUDE: -112 7 30.00000
NORTH_LATITUDE: 48 56 15.00000
SOUTH_LATITUDE: 48 52 30.00000
PRODUCTION_DATE: 1998 12 08
RASTER_ORDER: LEFT_RIGHT/TOP_BOTTOM
BAND_ORGANIZATION: SINGLE FILE
BAND_CONTENT: BLACK&WHITE
BAND_CONTENT: UNDEFINED
BAND_CONTENT: UNDEFINED
BITS_PER_PIXEL: 8
SAMPLES_AND_LINES: 5370 7650
HORIZONTAL_DATUM: NAD83
HORIZONTAL_COORDINATE_SYSTEM: UTM
COORDINATE_ZONE: 12
HORIZONTAL_UNITS: METERS
HORIZONTAL_RESOLUTION: 1.00000
SECONDARY_HORIZONTAL_DATUM: NAD27
XY_ORIGIN: 412560.00000 5421510.00000
SECONDARY_XY_ORIGIN: 412622.09700 5421290.68200
NATION: US
STATE: MT
NW_QUAD_CORNER_XY: 413035.47200 5421187.53800
NE_QUAD_CORNER_XY: 417612.47000 5421117.88600
SE_QUAD_CORNERY_XY: 417509.65000 5414170.35100
SW_QUAD_CORNER_XY: 412926.93900 5414240.02400
SECONDARY_NW_QUAD_XY: 413032.68300 5420968.55100
SECONDARY_NE_QUAD_XY: 417609.82800 5420898.89700
SECONDARY_SE_QUAD_XY: 417507.00800 5413951.36500
SECONDARY_SW_QUAD_XY: 412924.14900 5414021.04000
RMSE_XY: 1.67000
IMAGE_SOURCE: BLACK AND WHITE FILM
SOURCE_IMAGE_ID: NAPP 9493 9
SOURCE_IMAGE_DATE: 1995 09 14
SOURCE_DEM_DATE: 1968 00 00
AGENCY: WESTERN MAPPING CENTER (WMC)
PRODUCER: ANALYTICAL SURVEYS INC.
PRODUCTION_SYSTEM: ORBIT OR_RECTIFY V.5.2
COMPRESSION: UNDEFINED
STANDARD_VERSION: 1996 12
METADATA_DATE: 1998 12 10
DATA_FILE_SIZE: 41085870
BYTE_COUNT: 5370
