FILENAME: O4811206.NWS.938452.tif
QUADRANGLE_NAME: HEADLIGHT BUTTE NE
QUADRANT: NW
WEST_LONGITUDE: -112 22 30.00000
EAST_LONGITUDE: -112 18 45.00000
NORTH_LATITUDE: 49 0 0.00000
SOUTH_LATITUDE: 48 56 15.00000
PRODUCTION_DATE: 1998 12 07
RASTER_ORDER: LEFT_RIGHT/TOP_BOTTOM
BAND_ORGANIZATION: SINGLE FILE
BAND_CONTENT: BLACK&WHITE
BAND_CONTENT: UNDEFINED
BAND_CONTENT: UNDEFINED
BITS_PER_PIXEL: 8
SAMPLES_AND_LINES: 5400 7650
HORIZONTAL_DATUM: NAD83
HORIZONTAL_COORDINATE_SYSTEM: UTM
COORDINATE_ZONE: 12
HORIZONTAL_UNITS: METERS
HORIZONTAL_RESOLUTION: 1.00000
SECONDARY_HORIZONTAL_DATUM: NAD27
XY_ORIGIN: 398910.00000 5428680.00000
SECONDARY_XY_ORIGIN: 398972.27700 5428460.52100
NATION: US
NATION: CA
STATE: MT
NW_QUAD_CORNER_XY: 399430.36100 5428366.60800
NE_QUAD_CORNER_XY: 404001.59500 5428285.68200
SE_QUAD_CORNERY_XY: 403881.51900 5421338.14100
SW_QUAD_CORNER_XY: 399304.56500 5421419.09100
SECONDARY_NW_QUAD_XY: 399427.13100 5428147.62700
SECONDARY_NE_QUAD_XY: 403998.51200 5428066.69800
SECONDARY_SE_QUAD_XY: 403878.43500 5421119.15900
SECONDARY_SW_QUAD_XY: 399301.33500 5421200.11200
RMSE_XY: 3.12000
IMAGE_SOURCE: BLACK AND WHITE FILM
SOURCE_IMAGE_ID: NAPP 8381 61
SOURCE_IMAGE_DATE: 1995 07 28
SOURCE_DEM_DATE: 1966 00 00
AGENCY: WESTERN MAPPING CENTER (WMC)
PRODUCER: ANALYTICAL SURVEYS INC.
PRODUCTION_SYSTEM: ORBIT OR_RECTIFY V.5.2
COMPRESSION: UNDEFINED
STANDARD_VERSION: 1996 12
METADATA_DATE: 1998 12 09
DATA_FILE_SIZE: 41315400
BYTE_COUNT: 5400
