FILENAME: O4811206.SWS.938454.tif
QUADRANGLE_NAME: HEADLIGHT BUTTE NE
QUADRANT: SW
WEST_LONGITUDE: -112 22 30.00000
EAST_LONGITUDE: -112 18 45.00000
NORTH_LATITUDE: 48 56 15.00000
SOUTH_LATITUDE: 48 52 30.00000
PRODUCTION_DATE: 1998 12 07
RASTER_ORDER: LEFT_RIGHT/TOP_BOTTOM
BAND_ORGANIZATION: SINGLE FILE
BAND_CONTENT: BLACK&WHITE
BAND_CONTENT: UNDEFINED
BAND_CONTENT: UNDEFINED
BITS_PER_PIXEL: 8
SAMPLES_AND_LINES: 5400 7650
HORIZONTAL_DATUM: NAD83
HORIZONTAL_COORDINATE_SYSTEM: UTM
COORDINATE_ZONE: 12
HORIZONTAL_UNITS: METERS
HORIZONTAL_RESOLUTION: 1.00000
SECONDARY_HORIZONTAL_DATUM: NAD27
XY_ORIGIN: 398790.00000 5421720.00000
SECONDARY_XY_ORIGIN: 398852.27000 5421500.74500
NATION: US
STATE: MT
NW_QUAD_CORNER_XY: 399304.56500 5421419.09100
NE_QUAD_CORNER_XY: 403881.51900 5421338.14100
SE_QUAD_CORNERY_XY: 403761.55800 5414390.67200
SW_QUAD_CORNER_XY: 399178.89000 5414471.64600
SECONDARY_NW_QUAD_XY: 399301.33500 5421200.11200
SECONDARY_NE_QUAD_XY: 403878.43500 5421119.15900
SECONDARY_SE_QUAD_XY: 403758.47400 5414171.69200
SECONDARY_SW_QUAD_XY: 399175.66000 5414252.67000
RMSE_XY: 3.17000
IMAGE_SOURCE: BLACK AND WHITE FILM
SOURCE_IMAGE_ID: NAPP 8381 63
SOURCE_IMAGE_DATE: 1995 07 28
SOURCE_DEM_DATE: 1966 00 00
AGENCY: WESTERN MAPPING CENTER (WMC)
PRODUCER: ANALYTICAL SURVEYS INC.
PRODUCTION_SYSTEM: ORBIT OR_RECTIFY V.5.2
COMPRESSION: UNDEFINED
STANDARD_VERSION: 1996 12
METADATA_DATE: 1998 12 08
DATA_FILE_SIZE: 41315400
BYTE_COUNT: 5400
