FILENAME: O4811204.NWS.938416.tif
QUADRANGLE_NAME: LOVE ROCK
QUADRANT: NW
WEST_LONGITUDE: -112 37 30.00000
EAST_LONGITUDE: -112 33 45.00000
NORTH_LATITUDE: 49 0 0.00000
SOUTH_LATITUDE: 48 56 15.00000
PRODUCTION_DATE: 1998 11 25
RASTER_ORDER: LEFT_RIGHT/TOP_BOTTOM
BAND_ORGANIZATION: SINGLE FILE
BAND_CONTENT: BLACK&WHITE
BAND_CONTENT: UNDEFINED
BAND_CONTENT: UNDEFINED
BITS_PER_PIXEL: 8
SAMPLES_AND_LINES: 5430 7680
HORIZONTAL_DATUM: NAD83
HORIZONTAL_COORDINATE_SYSTEM: UTM
COORDINATE_ZONE: 12
HORIZONTAL_UNITS: METERS
HORIZONTAL_RESOLUTION: 1.00000
SECONDARY_HORIZONTAL_DATUM: NAD27
XY_ORIGIN: 380610.00000 5429040.00000
SECONDARY_XY_ORIGIN: 380672.49300 5428820.58100
NATION: US
NATION: CA
STATE: MT
NW_QUAD_CORNER_XY: 381145.59700 5428727.96600
NE_QUAD_CORNER_XY: 385716.76100 5428631.97800
SE_QUAD_CORNERY_XY: 385573.80400 5421684.54200
SW_QUAD_CORNER_XY: 380996.92000 5421780.55900
SECONDARY_NW_QUAD_XY: 381141.78000 5428508.99700
SECONDARY_NE_QUAD_XY: 385713.09000 5428413.00600
SECONDARY_SE_QUAD_XY: 385570.13400 5421465.57100
SECONDARY_SW_QUAD_XY: 380993.10300 5421561.59100
RMSE_XY: 1.71400
IMAGE_SOURCE: BLACK AND WHITE FILM
SOURCE_IMAGE_ID: NAPP 8384 223
SOURCE_IMAGE_DATE: 1995 08 05
SOURCE_IMAGE_ID: NAPP 8385 30
SOURCE_IMAGE_DATE: 1995 08 05
SOURCE_DEM_DATE: 1966 01 01
AGENCY: WESTERN MAPPING CENTER (WMC)
PRODUCER: ANALYTICAL SURVEYS INC.
PRODUCTION_SYSTEM: ORBIT OR_RECTIFY V.5.2
COMPRESSION: UNDEFINED
STANDARD_VERSION: 1996 12
METADATA_DATE: 1998 12 10
DATA_FILE_SIZE: 41707830
BYTE_COUNT: 5430
