FILENAME: O4811204.SES.938417.tif
QUADRANGLE_NAME: LOVE ROCK
QUADRANT: SE
WEST_LONGITUDE: -112 33 45.00000
EAST_LONGITUDE: -112 30 0.00000
NORTH_LATITUDE: 48 56 15.00000
SOUTH_LATITUDE: 48 52 30.00000
PRODUCTION_DATE: 1998 11 25
RASTER_ORDER: LEFT_RIGHT/TOP_BOTTOM
BAND_ORGANIZATION: SINGLE FILE
BAND_CONTENT: BLACK&WHITE
BAND_CONTENT: UNDEFINED
BAND_CONTENT: UNDEFINED
BITS_PER_PIXEL: 8
SAMPLES_AND_LINES: 5430 7650
HORIZONTAL_DATUM: NAD83
HORIZONTAL_COORDINATE_SYSTEM: UTM
COORDINATE_ZONE: 12
HORIZONTAL_UNITS: METERS
HORIZONTAL_RESOLUTION: 1.00000
SECONDARY_HORIZONTAL_DATUM: NAD27
XY_ORIGIN: 385050.00000 5421990.00000
SECONDARY_XY_ORIGIN: 385112.45900 5421770.81400
NATION: US
STATE: MT
NW_QUAD_CORNER_XY: 385573.80400 5421684.54200
NE_QUAD_CORNER_XY: 390150.70700 5421592.29200
SE_QUAD_CORNERY_XY: 390013.60300 5414644.89800
SW_QUAD_CORNER_XY: 385430.98500 5414737.17500
SECONDARY_NW_QUAD_XY: 385570.13400 5421465.57100
SECONDARY_NE_QUAD_XY: 390147.18300 5421373.31800
SECONDARY_SE_QUAD_XY: 390010.07900 5414425.92700
SECONDARY_SW_QUAD_XY: 385427.31400 5414518.20700
RMSE_XY: 1.32200
IMAGE_SOURCE: BLACK AND WHITE FILM
SOURCE_IMAGE_ID: NAPP 8384 199
SOURCE_IMAGE_DATE: 1995 08 05
SOURCE_DEM_DATE: 1966 01 01
AGENCY: WESTERN MAPPING CENTER (WMC)
PRODUCER: ANALYTICAL SURVEYS INC.
PRODUCTION_SYSTEM: ORBIT OR_RECTIFY V.5.2
COMPRESSION: UNDEFINED
STANDARD_VERSION: 1996 12
METADATA_DATE: 1998 12 10
DATA_FILE_SIZE: 41544930
BYTE_COUNT: 5430
