FILENAME: O4811203.NES.938403.tif
QUADRANGLE_NAME: LANDSLIDE BUTTE
QUADRANT: NE
WEST_LONGITUDE: -112 41 15.00000
EAST_LONGITUDE: -112 37 30.00000
NORTH_LATITUDE: 49 0 0.00000
SOUTH_LATITUDE: 48 56 15.00000
PRODUCTION_DATE: 1998 11 18
RASTER_ORDER: LEFT_RIGHT/TOP_BOTTOM
BAND_ORGANIZATION: SINGLE FILE
BAND_CONTENT: BLACK&WHITE
BAND_CONTENT: UNDEFINED
BAND_CONTENT: UNDEFINED
BITS_PER_PIXEL: 8
SAMPLES_AND_LINES: 5400 7650
HORIZONTAL_DATUM: NAD83
HORIZONTAL_COORDINATE_SYSTEM: UTM
COORDINATE_ZONE: 12
HORIZONTAL_UNITS: METERS
HORIZONTAL_RESOLUTION: 1.00000
SECONDARY_HORIZONTAL_DATUM: NAD27
XY_ORIGIN: 376050.00000 5429130.00000
SECONDARY_XY_ORIGIN: 376112.56200 5428910.57200
NATION: US
NATION: CA
STATE: MT
NW_QUAD_CORNER_XY: 376574.45300 5428827.72000
NE_QUAD_CORNER_XY: 381145.59700 5428727.96600
SE_QUAD_CORNERY_XY: 380996.92000 5421780.55900
SW_QUAD_CORNER_XY: 376420.05500 5421880.34200
SECONDARY_NW_QUAD_XY: 376570.48900 5428608.75400
SECONDARY_NE_QUAD_XY: 381141.78000 5428508.99700
SECONDARY_SE_QUAD_XY: 380993.10300 5421561.59100
SECONDARY_SW_QUAD_XY: 376416.09100 5421661.37800
RMSE_XY: 1.96500
IMAGE_SOURCE: BLACK AND WHITE FILM
SOURCE_IMAGE_ID: NAPP 8385 30
SOURCE_IMAGE_DATE: 1995 08 05
SOURCE_DEM_DATE: 1966 00 00
AGENCY: WESTERN MAPPING CENTER (WMC)
PRODUCER: ANALYTICAL SURVEYS INC.
PRODUCTION_SYSTEM: ORBIT OR_RECTIFY V.5.2
COMPRESSION: UNDEFINED
STANDARD_VERSION: 1996 12
METADATA_DATE: 1998 12 09
DATA_FILE_SIZE: 41315400
BYTE_COUNT: 5400
