FILENAME: O4811203.NWS.938404.tif
QUADRANGLE_NAME: LANDSLIDE BUTTE
QUADRANT: NW
WEST_LONGITUDE: -112 45 0.00000
EAST_LONGITUDE: -112 41 15.00000
NORTH_LATITUDE: 49 0 0.00000
SOUTH_LATITUDE: 48 56 15.00000
PRODUCTION_DATE: 1998 11 19
RASTER_ORDER: LEFT_RIGHT/TOP_BOTTOM
BAND_ORGANIZATION: SINGLE FILE
BAND_CONTENT: BLACK&WHITE
BAND_CONTENT: UNDEFINED
BAND_CONTENT: UNDEFINED
BITS_PER_PIXEL: 8
SAMPLES_AND_LINES: 5430 7680
HORIZONTAL_DATUM: NAD83
HORIZONTAL_COORDINATE_SYSTEM: UTM
COORDINATE_ZONE: 12
HORIZONTAL_UNITS: METERS
HORIZONTAL_RESOLUTION: 1.00000
SECONDARY_HORIZONTAL_DATUM: NAD27
XY_ORIGIN: 371460.00000 5429250.00000
SECONDARY_XY_ORIGIN: 371522.63100 5429030.56100
NATION: US
NATION: CA
STATE: MT
NW_QUAD_CORNER_XY: 372003.33000 5428931.24000
NE_QUAD_CORNER_XY: 376574.45300 5428827.72000
SE_QUAD_CORNERY_XY: 376420.05500 5421880.34200
SW_QUAD_CORNER_XY: 371843.21000 5421983.89400
SECONDARY_NW_QUAD_XY: 371999.21900 5428712.27700
SECONDARY_NE_QUAD_XY: 376570.48900 5428608.75400
SECONDARY_SE_QUAD_XY: 376416.09100 5421661.37800
SECONDARY_SW_QUAD_XY: 371839.09900 5421764.93200
RMSE_XY: 1.16400
IMAGE_SOURCE: BLACK AND WHITE FILM
SOURCE_IMAGE_ID: NAPP 8385 91
SOURCE_IMAGE_DATE: 1995 08 05
SOURCE_DEM_DATE: 1966 00 00
AGENCY: WESTERN MAPPING CENTER (WMC)
PRODUCER: ANALYTICAL SURVEYS INC.
PRODUCTION_SYSTEM: ORBIT OR_RECTIFY V.5.2
COMPRESSION: UNDEFINED
STANDARD_VERSION: 1996 12
METADATA_DATE: 1998 12 09
DATA_FILE_SIZE: 41707830
BYTE_COUNT: 5430
