FILENAME: O4811202.NES.945054.tif
QUADRANGLE_NAME: DEL BONITA
QUADRANT: NE
WEST_LONGITUDE: -112 48 45.00000
EAST_LONGITUDE: -112 45 0.00000
NORTH_LATITUDE: 49 0 0.00000
SOUTH_LATITUDE: 48 56 15.00000
PRODUCTION_DATE: 1998 10 02
RASTER_ORDER: LEFT_RIGHT/TOP_BOTTOM
BAND_ORGANIZATION: SINGLE FILE
BAND_CONTENT: BLACK&WHITE
BAND_CONTENT: UNDEFINED
BAND_CONTENT: UNDEFINED
BITS_PER_PIXEL: 8
SAMPLES_AND_LINES: 5460 7680
HORIZONTAL_DATUM: NAD83
HORIZONTAL_COORDINATE_SYSTEM: UTM
COORDINATE_ZONE: 12
HORIZONTAL_UNITS: METERS
HORIZONTAL_RESOLUTION: 1.00000
SECONDARY_HORIZONTAL_DATUM: NAD27
XY_ORIGIN: 366870.00000 5429340.00000
SECONDARY_XY_ORIGIN: 366932.69300 5429120.60700
NATION: US
NATION: CA
STATE: MT
NW_QUAD_CORNER_XY: 367432.22700 5429038.52600
NE_QUAD_CORNER_XY: 372003.33000 5428931.24000
SE_QUAD_CORNERY_XY: 371843.21000 5421983.89400
SW_QUAD_CORNER_XY: 367266.38600 5422091.21200
SECONDARY_NW_QUAD_XY: 367427.96900 5428819.56700
SECONDARY_NE_QUAD_XY: 371999.21900 5428712.27700
SECONDARY_SE_QUAD_XY: 371839.09900 5421764.93200
SECONDARY_SW_QUAD_XY: 367262.12900 5421872.25400
RMSE_XY: 1.13100
IMAGE_SOURCE: BLACK AND WHITE FILM
SOURCE_IMAGE_ID: NAPP 8385 27
SOURCE_IMAGE_DATE: 1995 08 05
SOURCE_DEM_DATE: 1966 01 01
AGENCY: WESTERN MAPPING CENTER (WMC)
PRODUCER: ANALYTICAL SURVEYS INC.
PRODUCTION_SYSTEM: ORBIT OR_RECTIFY V.5.2
COMPRESSION: UNDEFINED
STANDARD_VERSION: 1996 12
METADATA_DATE: 1998 12 10
DATA_FILE_SIZE: 41938260
BYTE_COUNT: 5460
