FILENAME: O4811202.SES.945056.tif
QUADRANGLE_NAME: DEL BONITA
QUADRANT: SE
WEST_LONGITUDE: -112 48 45.00000
EAST_LONGITUDE: -112 45 0.00000
NORTH_LATITUDE: 48 56 15.00000
SOUTH_LATITUDE: 48 52 30.00000
PRODUCTION_DATE: 1998 10 02
RASTER_ORDER: LEFT_RIGHT/TOP_BOTTOM
BAND_ORGANIZATION: SINGLE FILE
BAND_CONTENT: BLACK&WHITE
BAND_CONTENT: UNDEFINED
BAND_CONTENT: UNDEFINED
BITS_PER_PIXEL: 8
SAMPLES_AND_LINES: 5430 7680
HORIZONTAL_DATUM: NAD83
HORIZONTAL_COORDINATE_SYSTEM: UTM
COORDINATE_ZONE: 12
HORIZONTAL_UNITS: METERS
HORIZONTAL_RESOLUTION: 1.00000
SECONDARY_HORIZONTAL_DATUM: NAD27
XY_ORIGIN: 366720.00000 5422410.00000
SECONDARY_XY_ORIGIN: 366782.76000 5422190.84500
NATION: US
STATE: MT
NW_QUAD_CORNER_XY: 367266.38600 5422091.21200
NE_QUAD_CORNER_XY: 371843.21000 5421983.89400
SE_QUAD_CORNERY_XY: 371683.24500 5415036.61600
SW_QUAD_CORNER_XY: 367100.70500 5415143.96600
SECONDARY_NW_QUAD_XY: 367262.12900 5421872.25400
SECONDARY_NE_QUAD_XY: 371839.09900 5421764.93200
SECONDARY_SE_QUAD_XY: 371679.13400 5414817.65700
SECONDARY_SW_QUAD_XY: 367096.44700 5414925.01100
RMSE_XY: 1.10800
IMAGE_SOURCE: BLACK AND WHITE FILM
SOURCE_IMAGE_ID: NAPP 8385 25
SOURCE_IMAGE_DATE: 1995 08 05
SOURCE_DEM_DATE: 1966 01 01
AGENCY: WESTERN MAPPING CENTER (WMC)
PRODUCER: ANALYTICAL SURVEYS INC.
PRODUCTION_SYSTEM: ORBIT OR_RECTIFY V.5.2
COMPRESSION: UNDEFINED
STANDARD_VERSION: 1996 12
METADATA_DATE: 1998 10 02
DATA_FILE_SIZE: 41707830
BYTE_COUNT: 5430
