FILENAME: O4811202.SWS.945057.tif
QUADRANGLE_NAME: DEL BONITA
QUADRANT: SW
WEST_LONGITUDE: -112 52 30.00000
EAST_LONGITUDE: -112 48 45.00000
NORTH_LATITUDE: 48 56 15.00000
SOUTH_LATITUDE: 48 52 30.00000
PRODUCTION_DATE: 1998 10 02
RASTER_ORDER: LEFT_RIGHT/TOP_BOTTOM
BAND_ORGANIZATION: SINGLE FILE
BAND_CONTENT: BLACK&WHITE
BAND_CONTENT: UNDEFINED
BAND_CONTENT: UNDEFINED
BITS_PER_PIXEL: 8
SAMPLES_AND_LINES: 5460 7710
HORIZONTAL_DATUM: NAD83
HORIZONTAL_COORDINATE_SYSTEM: UTM
COORDINATE_ZONE: 12
HORIZONTAL_UNITS: METERS
HORIZONTAL_RESOLUTION: 1.00000
SECONDARY_HORIZONTAL_DATUM: NAD27
XY_ORIGIN: 362130.00000 5422530.00000
SECONDARY_XY_ORIGIN: 362192.82700 5422310.88400
NATION: US
STATE: MT
NW_QUAD_CORNER_XY: 362689.58400 5422202.29800
NE_QUAD_CORNER_XY: 367266.38600 5422091.21200
SE_QUAD_CORNERY_XY: 367100.70500 5415143.96600
SW_QUAD_CORNER_XY: 362518.18600 5415255.08500
SECONDARY_NW_QUAD_XY: 362685.17900 5421983.34400
SECONDARY_NE_QUAD_XY: 367262.12900 5421872.25400
SECONDARY_SE_QUAD_XY: 367096.44700 5414925.01100
SECONDARY_SW_QUAD_XY: 362513.78100 5415036.13400
RMSE_XY: 1.23700
IMAGE_SOURCE: BLACK AND WHITE FILM
SOURCE_IMAGE_ID: NAPP 8385 96
SOURCE_IMAGE_DATE: 1995 08 05
SOURCE_DEM_DATE: 1966 01 01
AGENCY: WESTERN MAPPING CENTER (WMC)
PRODUCER: ANALYTICAL SURVEYS INC.
PRODUCTION_SYSTEM: ORBIT OR_RECTIFY V.5.2
COMPRESSION: UNDEFINED
STANDARD_VERSION: 1996 12
METADATA_DATE: 1998 10 02
DATA_FILE_SIZE: 42102060
BYTE_COUNT: 5460
