FILENAME: O4811363.SWS.46901.tif
QUADRANGLE_NAME: GABLE PEAKS
QUADRANT: SW
WEST_LONGITUDE: -113 15 0.00000
EAST_LONGITUDE: -113 11 15.00000
NORTH_LATITUDE: 48 3 45.00000
SOUTH_LATITUDE: 48 0 0.00000
PRODUCTION_DATE: 1994 11 14
RASTER_ORDER: LEFT_RIGHT/TOP_BOTTOM
BAND_ORGANIZATION: SINGLE FILE
BAND_CONTENT: BLACK&WHITE
BAND_CONTENT: UNDEFINED
BAND_CONTENT: UNDEFINED
BITS_PER_PIXEL: 8
SAMPLES_AND_LINES: 5530 7687
HORIZONTAL_DATUM: NAD83
HORIZONTAL_COORDINATE_SYSTEM: UTM
COORDINATE_ZONE: 12
HORIZONTAL_UNITS: METERS
HORIZONTAL_RESOLUTION: 1.00000
SECONDARY_HORIZONTAL_DATUM: NAD27
XY_ORIGIN: 331795.00000 5325996.00000
SECONDARY_XY_ORIGIN: 331857.91300 5325780.54100
NATION: US
STATE: MT
NW_QUAD_CORNER_XY: 332367.49200 5325695.90600
NE_QUAD_CORNER_XY: 337023.70800 5325561.71100
SE_QUAD_CORNERY_XY: 336826.43600 5318615.58800
SW_QUAD_CORNER_XY: 332164.57900 5318749.81300
SECONDARY_NW_QUAD_XY: 332362.21000 5325477.08800
SECONDARY_NE_QUAD_XY: 337018.57200 5325342.88900
SECONDARY_SE_QUAD_XY: 336821.30000 5318396.78000
SECONDARY_SW_QUAD_XY: 332159.29700 5318531.01000
RMSE_XY: 9.30000
IMAGE_SOURCE: BLACK AND WHITE FILM
SOURCE_IMAGE_ID: NAPP 2615 034
SOURCE_IMAGE_DATE: 1990 9 3
SOURCE_DEM_DATE: 1994 11 14
AGENCY: WESTERN MAPPING CENTER (WMC)
PRODUCER: Science Applications International
PRODUCTION_SYSTEM: IIS/PRISM
COMPRESSION: UNDEFINED
STANDARD_VERSION: 1996 12
METADATA_DATE: 1997 7 3
DATA_FILE_SIZE: 42514640
BYTE_COUNT: 5530
