FILENAME: O4811362.NWS.47097.tif
QUADRANGLE_NAME: CAPITOL MOUNTAIN
QUADRANT: NW
WEST_LONGITUDE: -113 22 30.00000
EAST_LONGITUDE: -113 18 45.00000
NORTH_LATITUDE: 48 7 30.00000
SOUTH_LATITUDE: 48 3 45.00000
PRODUCTION_DATE: 1994 11 14
RASTER_ORDER: LEFT_RIGHT/TOP_BOTTOM
BAND_ORGANIZATION: SINGLE FILE
BAND_CONTENT: BLACK&WHITE
BAND_CONTENT: UNDEFINED
BAND_CONTENT: UNDEFINED
BITS_PER_PIXEL: 8
SAMPLES_AND_LINES: 5537 7694
HORIZONTAL_DATUM: NAD83
HORIZONTAL_COORDINATE_SYSTEM: UTM
COORDINATE_ZONE: 12
HORIZONTAL_UNITS: METERS
HORIZONTAL_RESOLUTION: 1.00000
SECONDARY_HORIZONTAL_DATUM: NAD27
XY_ORIGIN: 322685.00000 5333222.00000
SECONDARY_XY_ORIGIN: 322748.19200 5333006.03600
NATION: US
STATE: MT
NW_QUAD_CORNER_XY: 323269.53400 5332921.73800
NE_QUAD_CORNER_XY: 327920.06000 5332780.00900
SE_QUAD_CORNERY_XY: 327711.29800 5325833.88500
SW_QUAD_CORNER_XY: 323055.12500 5325975.64700
SECONDARY_NW_QUAD_XY: 323263.95800 5332702.91600
SECONDARY_NE_QUAD_XY: 327914.63000 5332561.18200
SECONDARY_SE_QUAD_XY: 327705.86900 5325615.07100
SECONDARY_SW_QUAD_XY: 323049.54900 5325756.83800
RMSE_XY: 2.10000
IMAGE_SOURCE: BLACK AND WHITE FILM
SOURCE_IMAGE_ID: NAPP 2635 025
SOURCE_IMAGE_DATE: 1991 8 4
SOURCE_DEM_DATE: 1994 11 14
AGENCY: WESTERN MAPPING CENTER (WMC)
PRODUCER: Science Applications International
PRODUCTION_SYSTEM: IIS/PRISM
COMPRESSION: UNDEFINED
STANDARD_VERSION: 1996 12
METADATA_DATE: 1997 7 3
DATA_FILE_SIZE: 42607215
BYTE_COUNT: 5537
