FILENAME: O4811360.NES.47467.tif
QUADRANGLE_NAME: CIRCUS PEAK
QUADRANT: NE
WEST_LONGITUDE: -113 33 45.00000
EAST_LONGITUDE: -113 30 0.00000
NORTH_LATITUDE: 48 7 30.00000
SOUTH_LATITUDE: 48 3 45.00000
PRODUCTION_DATE: 1994 11 14
RASTER_ORDER: LEFT_RIGHT/TOP_BOTTOM
BAND_ORGANIZATION: SINGLE FILE
BAND_CONTENT: BLACK&WHITE
BAND_CONTENT: UNDEFINED
BAND_CONTENT: UNDEFINED
BITS_PER_PIXEL: 8
SAMPLES_AND_LINES: 5554 7705
HORIZONTAL_DATUM: NAD83
HORIZONTAL_COORDINATE_SYSTEM: UTM
COORDINATE_ZONE: 12
HORIZONTAL_UNITS: METERS
HORIZONTAL_RESOLUTION: 1.00000
SECONDARY_HORIZONTAL_DATUM: NAD27
XY_ORIGIN: 308716.00000 5333670.00000
SECONDARY_XY_ORIGIN: 308779.28900 5333453.83800
NATION: US
STATE: MT
NW_QUAD_CORNER_XY: 309318.09800 5333369.62500
NE_QUAD_CORNER_XY: 313968.55300 5333216.54600
SE_QUAD_CORNERY_XY: 313742.84700 5326270.52400
SW_QUAD_CORNER_XY: 309086.74400 5326423.63900
SECONDARY_NW_QUAD_XY: 309312.08100 5333150.81700
SECONDARY_NE_QUAD_XY: 313962.68300 5332997.73300
SECONDARY_SE_QUAD_XY: 313736.97800 5326051.72400
SECONDARY_SW_QUAD_XY: 309080.72700 5326204.84400
RMSE_XY: 3.20000
IMAGE_SOURCE: BLACK AND WHITE FILM
SOURCE_IMAGE_ID: NAPP 2617 142
SOURCE_IMAGE_DATE: 1990 9 7
SOURCE_DEM_DATE: 1994 11 14
AGENCY: WESTERN MAPPING CENTER (WMC)
PRODUCER: Science Applications International
PRODUCTION_SYSTEM: IIS/PRISM
COMPRESSION: UNDEFINED
STANDARD_VERSION: 1996 12
METADATA_DATE: 1997 7 4
DATA_FILE_SIZE: 42799124
BYTE_COUNT: 5554
