FILENAME: O4811360.NWS.47468.tif
QUADRANGLE_NAME: CIRCUS PEAK
QUADRANT: NW
WEST_LONGITUDE: -113 37 30.00000
EAST_LONGITUDE: -113 33 45.00000
NORTH_LATITUDE: 48 7 30.00000
SOUTH_LATITUDE: 48 3 45.00000
PRODUCTION_DATE: 1995 4 28
RASTER_ORDER: LEFT_RIGHT/TOP_BOTTOM
BAND_ORGANIZATION: SINGLE FILE
BAND_CONTENT: BLACK&WHITE
BAND_CONTENT: UNDEFINED
BAND_CONTENT: UNDEFINED
BITS_PER_PIXEL: 8
SAMPLES_AND_LINES: 5560 7709
HORIZONTAL_DATUM: NAD83
HORIZONTAL_COORDINATE_SYSTEM: UTM
COORDINATE_ZONE: 12
HORIZONTAL_UNITS: METERS
HORIZONTAL_RESOLUTION: 1.00000
SECONDARY_HORIZONTAL_DATUM: NAD27
XY_ORIGIN: 304060.00000 5333827.00000
SECONDARY_XY_ORIGIN: 304123.24000 5333610.74000
NATION: US
STATE: MT
NW_QUAD_CORNER_XY: 304667.67000 5333526.49000
NE_QUAD_CORNER_XY: 309318.10000 5333369.62000
SE_QUAD_CORNERY_XY: 309086.74000 5326423.64000
SW_QUAD_CORNER_XY: 304430.66000 5326580.54000
SECONDARY_NW_QUAD_XY: 304661.50000 5333307.68000
SECONDARY_NE_QUAD_XY: 309312.08000 5333150.82000
SECONDARY_SE_QUAD_XY: 309080.73000 5326204.84000
SECONDARY_SW_QUAD_XY: 304424.50000 5326361.75000
RMSE_XY: 6.30000
IMAGE_SOURCE: BLACK AND WHITE FILM
SOURCE_IMAGE_ID: NAPP 2610 20
SOURCE_IMAGE_DATE: 1990 8 7
SOURCE_IMAGE_ID: NAPP 2610 2610
SOURCE_IMAGE_DATE: 1990 8 7
SOURCE_IMAGE_ID: NAPP 2610 21
SOURCE_IMAGE_DATE: 1990 8 7
SOURCE_DEM_DATE: 1995 4 28
AGENCY: WESTERN MAPPING CENTER (WMC)
PRODUCER: Science Applications International
PRODUCTION_SYSTEM: GIS/MAGIC
COMPRESSION: UNDEFINED
STANDARD_VERSION: 1996 12
METADATA_DATE: 1997 7 4
DATA_FILE_SIZE: 42867600
BYTE_COUNT: 5560
