FILENAME: O4811359.SWS.47650.tif
QUADRANGLE_NAME: QUINTONKON
QUADRANT: SW
WEST_LONGITUDE: -113 45 0.00000
EAST_LONGITUDE: -113 41 15.00000
NORTH_LATITUDE: 48 3 45.00000
SOUTH_LATITUDE: 48 0 0.00000
PRODUCTION_DATE: 1994 11 14
RASTER_ORDER: LEFT_RIGHT/TOP_BOTTOM
BAND_ORGANIZATION: SINGLE FILE
BAND_CONTENT: BLACK&WHITE
BAND_CONTENT: UNDEFINED
BAND_CONTENT: UNDEFINED
BITS_PER_PIXEL: 8
SAMPLES_AND_LINES: 5576 7716
HORIZONTAL_DATUM: NAD83
HORIZONTAL_COORDINATE_SYSTEM: UTM
COORDINATE_ZONE: 12
HORIZONTAL_UNITS: METERS
HORIZONTAL_RESOLUTION: 1.00000
SECONDARY_HORIZONTAL_DATUM: NAD27
XY_ORIGIN: 294500.00000 5327206.00000
SECONDARY_XY_ORIGIN: 294563.01200 5326989.89200
NATION: US
STATE: MT
NW_QUAD_CORNER_XY: 295118.58000 5326905.69600
NE_QUAD_CORNER_XY: 299774.60900 5326741.22500
SE_QUAD_CORNERY_XY: 299532.19500 5319795.37300
SW_QUAD_CORNER_XY: 294870.52100 5319959.88200
SECONDARY_NW_QUAD_XY: 295112.12300 5326686.91600
SECONDARY_NE_QUAD_XY: 299768.29900 5326522.44000
SECONDARY_SE_QUAD_XY: 299525.88600 5319576.60200
SECONDARY_SW_QUAD_XY: 294864.06500 5319741.11600
RMSE_XY: 3.50000
IMAGE_SOURCE: BLACK AND WHITE FILM
SOURCE_IMAGE_ID: NAPP 2617 034
SOURCE_IMAGE_DATE: 1990 9 7
SOURCE_DEM_DATE: 1994 11 14
AGENCY: WESTERN MAPPING CENTER (WMC)
PRODUCER: Science Applications International
PRODUCTION_SYSTEM: IIS/PRISM
COMPRESSION: UNDEFINED
STANDARD_VERSION: 1996 12
METADATA_DATE: 1997 7 4
DATA_FILE_SIZE: 43029992
BYTE_COUNT: 5576
