FILENAME: O4811358.SES.47808.tif
QUADRANGLE_NAME: BIG HAWK MOUNTAIN
QUADRANT: SE
WEST_LONGITUDE: -113 48 45.00000
EAST_LONGITUDE: -113 45 0.00000
NORTH_LATITUDE: 48 3 45.00000
SOUTH_LATITUDE: 48 0 0.00000
PRODUCTION_DATE: 1994 11 14
RASTER_ORDER: LEFT_RIGHT/TOP_BOTTOM
BAND_ORGANIZATION: SINGLE FILE
BAND_CONTENT: BLACK&WHITE
BAND_CONTENT: UNDEFINED
BAND_CONTENT: UNDEFINED
BITS_PER_PIXEL: 8
SAMPLES_AND_LINES: 5582 7720
HORIZONTAL_DATUM: NAD83
HORIZONTAL_COORDINATE_SYSTEM: UTM
COORDINATE_ZONE: 12
HORIZONTAL_UNITS: METERS
HORIZONTAL_RESOLUTION: 1.00000
SECONDARY_HORIZONTAL_DATUM: NAD27
XY_ORIGIN: 289838.00000 5327374.00000
SECONDARY_XY_ORIGIN: 289901.11800 5327157.83600
NATION: US
STATE: MT
NW_QUAD_CORNER_XY: 290462.57600 5327073.95300
NE_QUAD_CORNER_XY: 295118.58000 5326905.69600
SE_QUAD_CORNERY_XY: 294870.52100 5319959.88200
SW_QUAD_CORNER_XY: 290208.87200 5320128.17700
SECONDARY_NW_QUAD_XY: 290455.97300 5326855.17800
SECONDARY_NE_QUAD_XY: 295112.12300 5326686.91600
SECONDARY_SE_QUAD_XY: 294864.06500 5319741.11600
SECONDARY_SW_QUAD_XY: 290202.26900 5319909.41700
RMSE_XY: 2.90000
IMAGE_SOURCE: BLACK AND WHITE FILM
SOURCE_IMAGE_ID: NAPP 2636 023
SOURCE_IMAGE_DATE: 1991 8 4
SOURCE_DEM_DATE: 1994 11 14
AGENCY: WESTERN MAPPING CENTER (WMC)
PRODUCER: Science Applications International
PRODUCTION_SYSTEM: IIS/PRISM
COMPRESSION: UNDEFINED
STANDARD_VERSION: 1996 12
METADATA_DATE: 1997 6 19
DATA_FILE_SIZE: 43098622
BYTE_COUNT: 5582
