FILENAME: O4811357.SES.47947.tif
QUADRANGLE_NAME: CRATER LAKE
QUADRANT: SE
WEST_LONGITUDE: -113 56 15.00000
EAST_LONGITUDE: -113 52 30.00000
NORTH_LATITUDE: 48 3 45.00000
SOUTH_LATITUDE: 48 0 0.00000
PRODUCTION_DATE: 1994 11 14
RASTER_ORDER: LEFT_RIGHT/TOP_BOTTOM
BAND_ORGANIZATION: SINGLE FILE
BAND_CONTENT: BLACK&WHITE
BAND_CONTENT: UNDEFINED
BAND_CONTENT: UNDEFINED
BITS_PER_PIXEL: 8
SAMPLES_AND_LINES: 5594 7727
HORIZONTAL_DATUM: NAD83
HORIZONTAL_COORDINATE_SYSTEM: UTM
COORDINATE_ZONE: 12
HORIZONTAL_UNITS: METERS
HORIZONTAL_RESOLUTION: 1.00000
SECONDARY_HORIZONTAL_DATUM: NAD27
XY_ORIGIN: 280514.00000 5327722.00000
SECONDARY_XY_ORIGIN: 280577.27800 5327505.71000
NATION: US
STATE: MT
NW_QUAD_CORNER_XY: 281150.65000 5327421.82600
NE_QUAD_CORNER_XY: 285806.59900 5327245.99600
SE_QUAD_CORNERY_XY: 285547.24900 5320300.26000
SW_QUAD_CORNER_XY: 280885.65300 5320476.13100
SECONDARY_NW_QUAD_XY: 281143.75300 5327203.06200
SECONDARY_NE_QUAD_XY: 285799.84900 5327027.22700
SECONDARY_SE_QUAD_XY: 285540.50000 5320081.50600
SECONDARY_SW_QUAD_XY: 280878.75700 5320257.38200
RMSE_XY: 2.90000
IMAGE_SOURCE: BLACK AND WHITE FILM
SOURCE_IMAGE_ID: NAPP 2631 041
SOURCE_IMAGE_DATE: 1991 7 20
SOURCE_DEM_DATE: 1994 11 14
AGENCY: WESTERN MAPPING CENTER (WMC)
PRODUCER: Science Applications International
PRODUCTION_SYSTEM: IIS/PRISM
COMPRESSION: UNDEFINED
STANDARD_VERSION: 1996 12
METADATA_DATE: 1997 6 19
DATA_FILE_SIZE: 43230432
BYTE_COUNT: 5594
