FILENAME: O4811357.SWS.47948.tif
QUADRANGLE_NAME: CRATER LAKE
QUADRANT: SW
WEST_LONGITUDE: -114 0 0.00000
EAST_LONGITUDE: -113 56 15.00000
NORTH_LATITUDE: 48 3 45.00000
SOUTH_LATITUDE: 48 0 0.00000
PRODUCTION_DATE: 1994 11 14
RASTER_ORDER: LEFT_RIGHT/TOP_BOTTOM
BAND_ORGANIZATION: SINGLE FILE
BAND_CONTENT: BLACK&WHITE
BAND_CONTENT: UNDEFINED
BAND_CONTENT: UNDEFINED
BITS_PER_PIXEL: 8
SAMPLES_AND_LINES: 5600 7731
HORIZONTAL_DATUM: NAD83
HORIZONTAL_COORDINATE_SYSTEM: UTM
COORDINATE_ZONE: 12
HORIZONTAL_UNITS: METERS
HORIZONTAL_RESOLUTION: 1.00000
SECONDARY_HORIZONTAL_DATUM: NAD27
XY_ORIGIN: 275852.00000 5327902.00000
SECONDARY_XY_ORIGIN: 275915.35900 5327685.64700
NATION: US
STATE: MT
NW_QUAD_CORNER_XY: 276494.72800 5327601.44300
NE_QUAD_CORNER_XY: 281150.65000 5327421.82600
SE_QUAD_CORNERY_XY: 280885.65300 5320476.13100
SW_QUAD_CORNER_XY: 276224.08500 5320655.78900
SECONDARY_NW_QUAD_XY: 276487.68400 5327382.68500
SECONDARY_NE_QUAD_XY: 281143.75300 5327203.06200
SECONDARY_SE_QUAD_XY: 280878.75700 5320257.38200
SECONDARY_SW_QUAD_XY: 276217.04100 5320437.04500
RMSE_XY: 2.80000
IMAGE_SOURCE: BLACK AND WHITE FILM
SOURCE_IMAGE_ID: NAPP 2631 034
SOURCE_IMAGE_DATE: 1991 7 20
SOURCE_DEM_DATE: 1994 11 14
AGENCY: WESTERN MAPPING CENTER (WMC)
PRODUCER: Science Applications International
PRODUCTION_SYSTEM: IIS/PRISM
COMPRESSION: UNDEFINED
STANDARD_VERSION: 1996 12
METADATA_DATE: 1997 6 19
DATA_FILE_SIZE: 43299200
BYTE_COUNT: 5600
