FILENAME: O4811354.SWS.47095.tif
QUADRANGLE_NAME: RED PLUME MOUNTAIN
QUADRANT: SW
WEST_LONGITUDE: -113 22 30.00000
EAST_LONGITUDE: -113 18 45.00000
NORTH_LATITUDE: 48 11 15.00000
SOUTH_LATITUDE: 48 7 30.00000
PRODUCTION_DATE: 1994 11 14
RASTER_ORDER: LEFT_RIGHT/TOP_BOTTOM
BAND_ORGANIZATION: SINGLE FILE
BAND_CONTENT: BLACK&WHITE
BAND_CONTENT: UNDEFINED
BAND_CONTENT: UNDEFINED
BITS_PER_PIXEL: 8
SAMPLES_AND_LINES: 5532 7693
HORIZONTAL_DATUM: NAD83
HORIZONTAL_COORDINATE_SYSTEM: UTM
COORDINATE_ZONE: 12
HORIZONTAL_UNITS: METERS
HORIZONTAL_RESOLUTION: 1.00000
SECONDARY_HORIZONTAL_DATUM: NAD27
XY_ORIGIN: 322899.00000 5340168.00000
SECONDARY_XY_ORIGIN: 322962.31400 5339951.65400
NATION: US
STATE: MT
NW_QUAD_CORNER_XY: 323484.15500 5339867.89300
NE_QUAD_CORNER_XY: 328129.02700 5339726.19800
SE_QUAD_CORNERY_XY: 327920.06000 5332780.00900
SW_QUAD_CORNER_XY: 323269.53400 5332921.73800
SECONDARY_NW_QUAD_XY: 323478.57900 5339649.05700
SECONDARY_NE_QUAD_XY: 328123.59700 5339507.35800
SECONDARY_SE_QUAD_XY: 327914.63000 5332561.18200
SECONDARY_SW_QUAD_XY: 323263.95800 5332702.91600
RMSE_XY: 4.60000
IMAGE_SOURCE: BLACK AND WHITE FILM
SOURCE_IMAGE_ID: NAPP 2635 027
SOURCE_IMAGE_DATE: 1991 8 4
SOURCE_DEM_DATE: 1994 11 14
AGENCY: WESTERN MAPPING CENTER (WMC)
PRODUCER: Science Applications International
PRODUCTION_SYSTEM: IIS/PRISM
COMPRESSION: UNDEFINED
STANDARD_VERSION: 1996 12
METADATA_DATE: 1997 7 3
DATA_FILE_SIZE: 42563208
BYTE_COUNT: 5532
