FILENAME: O4811353.NWS.47283.tif
QUADRANGLE_NAME: MOUNT BRADLEY
QUADRANT: NW
WEST_LONGITUDE: -113 30 0.00000
EAST_LONGITUDE: -113 26 15.00000
NORTH_LATITUDE: 48 15 0.00000
SOUTH_LATITUDE: 48 11 15.00000
PRODUCTION_DATE: 1994 11 14
RASTER_ORDER: LEFT_RIGHT/TOP_BOTTOM
BAND_ORGANIZATION: SINGLE FILE
BAND_CONTENT: BLACK&WHITE
BAND_CONTENT: UNDEFINED
BAND_CONTENT: UNDEFINED
BITS_PER_PIXEL: 8
SAMPLES_AND_LINES: 5537 7701
HORIZONTAL_DATUM: NAD83
HORIZONTAL_COORDINATE_SYSTEM: UTM
COORDINATE_ZONE: 12
HORIZONTAL_UNITS: METERS
HORIZONTAL_RESOLUTION: 1.00000
SECONDARY_HORIZONTAL_DATUM: NAD27
XY_ORIGIN: 313824.00000 5347409.00000
SECONDARY_XY_ORIGIN: 313887.58900 5347192.21500
NATION: US
STATE: MT
NW_QUAD_CORNER_XY: 314420.63300 5347108.77500
NE_QUAD_CORNER_XY: 319059.79800 5346959.55200
SE_QUAD_CORNERY_XY: 318839.30700 5340013.37000
SW_QUAD_CORNER_XY: 314194.48200 5340162.63000
SECONDARY_NW_QUAD_XY: 314414.76200 5346889.93700
SECONDARY_NE_QUAD_XY: 319054.07400 5346740.70900
SECONDARY_SE_QUAD_XY: 318833.58300 5339794.53900
SECONDARY_SW_QUAD_XY: 314188.61100 5339943.80400
RMSE_XY: 3.10000
IMAGE_SOURCE: BLACK AND WHITE FILM
SOURCE_IMAGE_ID: NAPP 2617 193
SOURCE_IMAGE_DATE: 1990 9 7
SOURCE_DEM_DATE: 1994 11 14
AGENCY: WESTERN MAPPING CENTER (WMC)
PRODUCER: Science Applications International
PRODUCTION_SYSTEM: IIS/PRISM
COMPRESSION: UNDEFINED
STANDARD_VERSION: 1996 12
METADATA_DATE: 1997 7 3
DATA_FILE_SIZE: 42645974
BYTE_COUNT: 5537
