FILENAME: O4811353.SES.47284.tif
QUADRANGLE_NAME: MOUNT BRADLEY
QUADRANT: SE
WEST_LONGITUDE: -113 26 15.00000
EAST_LONGITUDE: -113 22 30.00000
NORTH_LATITUDE: 48 11 15.00000
SOUTH_LATITUDE: 48 7 30.00000
PRODUCTION_DATE: 1995 4 28
RASTER_ORDER: LEFT_RIGHT/TOP_BOTTOM
BAND_ORGANIZATION: SINGLE FILE
BAND_CONTENT: BLACK&WHITE
BAND_CONTENT: UNDEFINED
BAND_CONTENT: UNDEFINED
BITS_PER_PIXEL: 8
SAMPLES_AND_LINES: 5537 7698
HORIZONTAL_DATUM: NAD83
HORIZONTAL_COORDINATE_SYSTEM: UTM
COORDINATE_ZONE: 12
HORIZONTAL_UNITS: METERS
HORIZONTAL_RESOLUTION: 1.00000
SECONDARY_HORIZONTAL_DATUM: NAD27
XY_ORIGIN: 318249.00000 5340314.00000
SECONDARY_XY_ORIGIN: 318312.39000 5340097.62000
NATION: US
STATE: MT
NW_QUAD_CORNER_XY: 318839.31000 5340013.37000
NE_QUAD_CORNER_XY: 323484.16000 5339867.89000
SE_QUAD_CORNERY_XY: 323269.53000 5332921.74000
SW_QUAD_CORNER_XY: 318619.03000 5333067.25000
SECONDARY_NW_QUAD_XY: 318833.58000 5339794.54000
SECONDARY_NE_QUAD_XY: 323478.58000 5339649.06000
SECONDARY_SE_QUAD_XY: 323263.96000 5332702.92000
SECONDARY_SW_QUAD_XY: 318613.31000 5332848.43000
RMSE_XY: 8.90000
IMAGE_SOURCE: BLACK AND WHITE FILM
SOURCE_IMAGE_ID: NAPP 2634 104
SOURCE_IMAGE_DATE: 1991 8 3
SOURCE_IMAGE_ID: NAPP 2634 105
SOURCE_IMAGE_DATE: 1991 8 3
SOURCE_IMAGE_ID: NAPP 2634 103
SOURCE_IMAGE_DATE: 1991 8 3
SOURCE_DEM_DATE: 1995 4 28
AGENCY: WESTERN MAPPING CENTER (WMC)
PRODUCER: Science Applications International
PRODUCTION_SYSTEM: GIS/MAGIC
COMPRESSION: UNDEFINED
STANDARD_VERSION: 1996 12
METADATA_DATE: 1997 7 4
DATA_FILE_SIZE: 42629363
BYTE_COUNT: 5537
