FILENAME: O4811350.SES.47804.tif
QUADRANGLE_NAME: PIONEER RIDGE
QUADRANT: SE
WEST_LONGITUDE: -113 48 45.00000
EAST_LONGITUDE: -113 45 0.00000
NORTH_LATITUDE: 48 11 15.00000
SOUTH_LATITUDE: 48 7 30.00000
PRODUCTION_DATE: 1994 11 14
RASTER_ORDER: LEFT_RIGHT/TOP_BOTTOM
BAND_ORGANIZATION: SINGLE FILE
BAND_CONTENT: BLACK&WHITE
BAND_CONTENT: UNDEFINED
BAND_CONTENT: UNDEFINED
BITS_PER_PIXEL: 8
SAMPLES_AND_LINES: 5572 7719
HORIZONTAL_DATUM: NAD83
HORIZONTAL_COORDINATE_SYSTEM: UTM
COORDINATE_ZONE: 12
HORIZONTAL_UNITS: METERS
HORIZONTAL_RESOLUTION: 1.00000
SECONDARY_HORIZONTAL_DATUM: NAD27
XY_ORIGIN: 290345.00000 5341266.00000
SECONDARY_XY_ORIGIN: 290408.33500 5341049.14300
NATION: US
STATE: MT
NW_QUAD_CORNER_XY: 290970.73700 5340965.67700
NE_QUAD_CORNER_XY: 295615.43300 5340797.50000
SE_QUAD_CORNERY_XY: 295366.88400 5333851.56900
SW_QUAD_CORNER_XY: 290716.53100 5334019.78600
SECONDARY_NW_QUAD_XY: 290964.13200 5340746.87600
SECONDARY_NE_QUAD_XY: 295608.97600 5340578.69400
SECONDARY_SE_QUAD_XY: 295360.42700 5333632.77500
SECONDARY_SW_QUAD_XY: 290709.92700 5333800.99800
RMSE_XY: 3.40000
IMAGE_SOURCE: BLACK AND WHITE FILM
SOURCE_IMAGE_ID: NAPP 2612 009
SOURCE_IMAGE_DATE: 1990 9 1
SOURCE_DEM_DATE: 1994 11 14
AGENCY: WESTERN MAPPING CENTER (WMC)
PRODUCER: Science Applications International
PRODUCTION_SYSTEM: IIS/PRISM
COMPRESSION: UNDEFINED
STANDARD_VERSION: 1996 12
METADATA_DATE: 1997 6 19
DATA_FILE_SIZE: 43015840
BYTE_COUNT: 5572
