FILENAME: O4811349.SWS.47944.tif
QUADRANGLE_NAME: JEWEL BASIN
QUADRANT: SW
WEST_LONGITUDE: -114 0 0.00000
EAST_LONGITUDE: -113 56 15.00000
NORTH_LATITUDE: 48 11 15.00000
SOUTH_LATITUDE: 48 7 30.00000
PRODUCTION_DATE: 1994 11 14
RASTER_ORDER: LEFT_RIGHT/TOP_BOTTOM
BAND_ORGANIZATION: SINGLE FILE
BAND_CONTENT: BLACK&WHITE
BAND_CONTENT: UNDEFINED
BAND_CONTENT: UNDEFINED
BITS_PER_PIXEL: 8
SAMPLES_AND_LINES: 5573 7730
HORIZONTAL_DATUM: NAD83
HORIZONTAL_COORDINATE_SYSTEM: UTM
COORDINATE_ZONE: 12
HORIZONTAL_UNITS: METERS
HORIZONTAL_RESOLUTION: 1.00000
SECONDARY_HORIZONTAL_DATUM: NAD27
XY_ORIGIN: 276394.00000 5341793.00000
SECONDARY_XY_ORIGIN: 276457.42000 5341575.95000
NATION: US
STATE: MT
NW_QUAD_CORNER_XY: 277036.82000 5341492.92000
NE_QUAD_CORNER_XY: 281681.43000 5341313.38000
SE_QUAD_CORNERY_XY: 281415.91000 5334367.58000
SW_QUAD_CORNER_XY: 276765.64000 5334547.15000
SECONDARY_NW_QUAD_XY: 277029.77100 5341274.13200
SECONDARY_NE_QUAD_XY: 281674.53000 5341094.59500
SECONDARY_SE_QUAD_XY: 281409.01000 5334148.80100
SECONDARY_SW_QUAD_XY: 276758.59400 5334328.38100
RMSE_XY: 2.80000
IMAGE_SOURCE: BLACK AND WHITE FILM
SOURCE_IMAGE_ID: NAPP 2634 079
SOURCE_IMAGE_DATE: 1991 8 3
SOURCE_DEM_DATE: 1994 11 14
AGENCY: WESTERN MAPPING CENTER (WMC)
PRODUCER: Science Applications International
PRODUCTION_SYSTEM: IIS/PRISM
COMPRESSION: UNDEFINED
STANDARD_VERSION: 1996 12
METADATA_DATE: 1997 7 4
DATA_FILE_SIZE: 43084863
BYTE_COUNT: 5573
