FILENAME: O4811348.SWS.46721.tif
QUADRANGLE_NAME: HALF DOME CRAG
QUADRANT: SW
WEST_LONGITUDE: -113 7 30.00000
EAST_LONGITUDE: -113 3 45.00000
NORTH_LATITUDE: 48 18 45.00000
SOUTH_LATITUDE: 48 15 0.00000
PRODUCTION_DATE: 1994 12 22
RASTER_ORDER: LEFT_RIGHT/TOP_BOTTOM
BAND_ORGANIZATION: SINGLE FILE
BAND_CONTENT: BLACK&WHITE
BAND_CONTENT: UNDEFINED
BAND_CONTENT: UNDEFINED
BITS_PER_PIXEL: 8
SAMPLES_AND_LINES: 5497 7678
HORIZONTAL_DATUM: NAD83
HORIZONTAL_COORDINATE_SYSTEM: UTM
COORDINATE_ZONE: 12
HORIZONTAL_UNITS: METERS
HORIZONTAL_RESOLUTION: 1.00000
SECONDARY_HORIZONTAL_DATUM: NAD27
XY_ORIGIN: 341887.00000 5353517.00000
SECONDARY_XY_ORIGIN: 341950.02600 5353300.19300
NATION: US
STATE: MT
NW_QUAD_CORNER_XY: 342448.36600 5353216.56800
NE_QUAD_CORNER_XY: 347082.00500 5353090.06200
SE_QUAD_CORNERY_XY: 346895.27800 5346143.61500
SW_QUAD_CORNER_XY: 342255.97700 5346270.15300
SECONDARY_NW_QUAD_XY: 342443.37500 5352997.69300
SECONDARY_NE_QUAD_XY: 347077.16100 5352871.18300
SECONDARY_SE_QUAD_XY: 346890.43500 5345924.74700
SECONDARY_SW_QUAD_XY: 342250.98700 5346051.28900
RMSE_XY: 2.80000
IMAGE_SOURCE: BLACK AND WHITE FILM
SOURCE_IMAGE_ID: PAPP 1611 626
SOURCE_IMAGE_DATE: 1990 8 8
SOURCE_DEM_DATE: 1994 12 22
AGENCY: WESTERN MAPPING CENTER (WMC)
PRODUCER: Science Applications International
PRODUCTION_SYSTEM: GIS/MAGIC
COMPRESSION: UNDEFINED
STANDARD_VERSION: 1996 12
METADATA_DATE: 1997 5 20
DATA_FILE_SIZE: 42211463
BYTE_COUNT: 5497
