FILENAME: O4811347.NWS.46891.tif
QUADRANGLE_NAME: BROWN COULEE
QUADRANT: NW
WEST_LONGITUDE: -107 7 30.00000
EAST_LONGITUDE: -107 3 45.00000
NORTH_LATITUDE: 46 45 0.00000
SOUTH_LATITUDE: 46 41 15.00000
PRODUCTION_DATE: 1999 5 19
RASTER_ORDER: LEFT_RIGHT/TOP_BOTTOM
BAND_ORGANIZATION: SINGLE FILE
BAND_CONTENT: BLACK&WHITE
BAND_CONTENT: UNDEFINED
BAND_CONTENT: UNDEFINED
BITS_PER_PIXEL: 8
SAMPLES_AND_LINES: 5612 7676
HORIZONTAL_DATUM: NAD83
HORIZONTAL_COORDINATE_SYSTEM: UTM
COORDINATE_ZONE: 13
HORIZONTAL_UNITS: METERS
HORIZONTAL_RESOLUTION: 1.00000
SECONDARY_HORIZONTAL_DATUM: NAD27
XY_ORIGIN: 337159.00000 5179877.00000
SECONDARY_XY_ORIGIN: 337201.74100 5179658.13800
NATION: US
NATION: "SCIENCE
STATE: MT
NW_QUAD_CORNER_XY: 337695.86200 5179575.85800
NE_QUAD_CORNER_XY: 342469.38800 5179448.74600
SE_QUAD_CORNERY_XY: 342287.31300 5172503.95500
SW_QUAD_CORNER_XY: 337508.26600 5172631.08400
SECONDARY_NW_QUAD_XY: 337690.88600 5179357.51100
SECONDARY_NE_QUAD_XY: 342464.55800 5179230.39500
SECONDARY_SE_QUAD_XY: 342282.48500 5172285.63600
SECONDARY_SW_QUAD_XY: 337503.29100 5172412.76900
RMSE_XY: 1.80000
IMAGE_SOURCE: BLACK AND WHITE FILM
SOURCE_IMAGE_ID: NAPP 10764 069
SOURCE_IMAGE_DATE: 1997 09 20
SOURCE_IMAGE_ID: NAPP 9100 022
SOURCE_IMAGE_DATE: 1996 07 14
SOURCE_IMAGE_ID: NAPP 9100 021
SOURCE_IMAGE_DATE: 1996 07 14
SOURCE_DEM_DATE: 1956 00 00
AGENCY: WESTERN MAPPING CENTER (WMC)
PRODUCER: UNDEFINED
PRODUCTION_SYSTEM: GIS/MAGIC
COMPRESSION: UNDEFINED
STANDARD_VERSION: 1996 12
METADATA_DATE: 1999 05 24
DATA_FILE_SIZE: 43083324
BYTE_COUNT: 5612
