FILENAME: O4811347.SES.46892.tif
QUADRANGLE_NAME: HYDE CREEK
QUADRANT: SE
WEST_LONGITUDE: -113 11 15.00000
EAST_LONGITUDE: -113 7 30.00000
NORTH_LATITUDE: 48 18 45.00000
SOUTH_LATITUDE: 48 15 0.00000
PRODUCTION_DATE: 1995 4 27
RASTER_ORDER: LEFT_RIGHT/TOP_BOTTOM
BAND_ORGANIZATION: SINGLE FILE
BAND_CONTENT: BLACK&WHITE
BAND_CONTENT: UNDEFINED
BAND_CONTENT: UNDEFINED
BITS_PER_PIXEL: 8
SAMPLES_AND_LINES: 5503 7682
HORIZONTAL_DATUM: NAD83
HORIZONTAL_COORDINATE_SYSTEM: UTM
COORDINATE_ZONE: 12
HORIZONTAL_UNITS: METERS
HORIZONTAL_RESOLUTION: 1.00000
SECONDARY_HORIZONTAL_DATUM: NAD27
XY_ORIGIN: 337247.00000 5353647.00000
SECONDARY_XY_ORIGIN: 337310.18000 5353430.16000
NATION: US
STATE: MT
NW_QUAD_CORNER_XY: 337814.75000 5353346.85000
NE_QUAD_CORNER_XY: 342448.37000 5353216.57000
SE_QUAD_CORNERY_XY: 342255.98000 5346270.15000
SW_QUAD_CORNER_XY: 337616.70000 5346400.47000
SECONDARY_NW_QUAD_XY: 337809.61000 5353127.98000
SECONDARY_NE_QUAD_XY: 342443.38000 5352997.69000
SECONDARY_SE_QUAD_XY: 342250.99000 5346051.29000
SECONDARY_SW_QUAD_XY: 337611.56000 5346181.61000
RMSE_XY: 1.80000
IMAGE_SOURCE: BLACK AND WHITE FILM
SOURCE_IMAGE_ID: NAPP 1611 33
SOURCE_IMAGE_DATE: 1990 8 8
SOURCE_IMAGE_ID: NAPP 1611 1611
SOURCE_IMAGE_DATE: 1990 8 8
SOURCE_IMAGE_ID: NAPP 1611 44
SOURCE_IMAGE_DATE: 1990 8 8
SOURCE_IMAGE_ID: NAPP 1611 1611
SOURCE_IMAGE_DATE: 1990 8 8
SOURCE_IMAGE_ID: NAPP 1611 22
SOURCE_IMAGE_DATE: 1990 8 8
SOURCE_DEM_DATE: 1995 4 27
AGENCY: WESTERN MAPPING CENTER (WMC)
PRODUCER: Science Applications International
PRODUCTION_SYSTEM: GIS/MAGIC
COMPRESSION: UNDEFINED
STANDARD_VERSION: 1996 12
METADATA_DATE: 1997 5 20
DATA_FILE_SIZE: 42279549
BYTE_COUNT: 5503
