FILENAME: O4811343.NWS.47640.tif
QUADRANGLE_NAME: PINNACLE
QUADRANT: NW
WEST_LONGITUDE: -113 45 0.00000
EAST_LONGITUDE: -113 41 15.00000
NORTH_LATITUDE: 48 22 30.00000
SOUTH_LATITUDE: 48 18 45.00000
PRODUCTION_DATE: 1994 11 4
RASTER_ORDER: LEFT_RIGHT/TOP_BOTTOM
BAND_ORGANIZATION: SINGLE FILE
BAND_CONTENT: BLACK&WHITE
BAND_CONTENT: UNDEFINED
BAND_CONTENT: UNDEFINED
BITS_PER_PIXEL: 8
SAMPLES_AND_LINES: 5550 7715
HORIZONTAL_DATUM: NAD83
HORIZONTAL_COORDINATE_SYSTEM: UTM
COORDINATE_ZONE: 12
HORIZONTAL_UNITS: METERS
HORIZONTAL_RESOLUTION: 1.00000
SECONDARY_HORIZONTAL_DATUM: NAD27
XY_ORIGIN: 295742.00000 5361936.00000
SECONDARY_XY_ORIGIN: 295805.46300 5361718.52900
NATION: US
STATE: MT
NW_QUAD_CORNER_XY: 296362.54800 5361635.64400
NE_QUAD_CORNER_XY: 300990.27100 5361471.37500
SE_QUAD_CORNERY_XY: 300746.66000 5354525.22600
SW_QUAD_CORNER_XY: 296113.26600 5354689.53800
SECONDARY_NW_QUAD_XY: 296356.08900 5361416.80600
SECONDARY_NE_QUAD_XY: 300983.95900 5361252.53100
SECONDARY_SE_QUAD_XY: 300740.34900 5354306.39300
SECONDARY_SW_QUAD_XY: 296106.80700 5354470.70900
RMSE_XY: 4.30000
IMAGE_SOURCE: BLACK AND WHITE FILM
SOURCE_IMAGE_ID: PAPP 7617 545
SOURCE_IMAGE_DATE: 1990 9 7
SOURCE_DEM_DATE: 1994 11 4
AGENCY: WESTERN MAPPING CENTER (WMC)
PRODUCER: Science Applications International
PRODUCTION_SYSTEM: GIS/MAGIC
COMPRESSION: UNDEFINED
STANDARD_VERSION: 1996 12
METADATA_DATE: 1997 5 20
DATA_FILE_SIZE: 42823800
BYTE_COUNT: 5550
