FILENAME: O4811339.NWS.46886.tif
QUADRANGLE_NAME: EAST GLACIER PARK
QUADRANT: NW
WEST_LONGITUDE: -113 15 0.00000
EAST_LONGITUDE: -113 11 15.00000
NORTH_LATITUDE: 48 30 0.00000
SOUTH_LATITUDE: 48 26 15.00000
PRODUCTION_DATE: 1994 12 12
RASTER_ORDER: LEFT_RIGHT/TOP_BOTTOM
BAND_ORGANIZATION: SINGLE FILE
BAND_CONTENT: BLACK&WHITE
BAND_CONTENT: UNDEFINED
BAND_CONTENT: UNDEFINED
BITS_PER_PIXEL: 8
SAMPLES_AND_LINES: 5493 7685
HORIZONTAL_DATUM: NAD83
HORIZONTAL_COORDINATE_SYSTEM: UTM
COORDINATE_ZONE: 12
HORIZONTAL_UNITS: METERS
HORIZONTAL_RESOLUTION: 1.00000
SECONDARY_HORIZONTAL_DATUM: NAD27
XY_ORIGIN: 333219.00000 5374621.00000
SECONDARY_XY_ORIGIN: 333282.46600 5374403.49600
NATION: US
STATE: MT
NW_QUAD_CORNER_XY: 333793.49800 5374320.35400
NE_QUAD_CORNER_XY: 338410.07000 5374186.39300
SE_QUAD_CORNERY_XY: 338211.43600 5367239.81500
SW_QUAD_CORNER_XY: 333589.18400 5367373.81200
SECONDARY_NW_QUAD_XY: 333788.21300 5374101.45900
SECONDARY_NE_QUAD_XY: 338404.93200 5373967.49400
SECONDARY_SE_QUAD_XY: 338206.29800 5367020.92500
SECONDARY_SW_QUAD_XY: 333583.89900 5367154.92500
RMSE_XY: 2.10000
IMAGE_SOURCE: BLACK AND WHITE FILM
SOURCE_IMAGE_ID: PAPP 7607 474
SOURCE_IMAGE_DATE: 1990 7 12
SOURCE_DEM_DATE: 1994 12 12
AGENCY: WESTERN MAPPING CENTER (WMC)
PRODUCER: Science Applications International
PRODUCTION_SYSTEM: GIS/MAGIC
COMPRESSION: UNDEFINED
STANDARD_VERSION: 1996 12
METADATA_DATE: 1997 5 20
DATA_FILE_SIZE: 42219198
BYTE_COUNT: 5493
