FILENAME: O4811339.SES.46887.tif
QUADRANGLE_NAME: EAST GLACIER PARK
QUADRANT: SE
WEST_LONGITUDE: -113 11 15.00000
EAST_LONGITUDE: -113 7 30.00000
NORTH_LATITUDE: 48 26 15.00000
SOUTH_LATITUDE: 48 22 30.00000
PRODUCTION_DATE: 1995 4 27
RASTER_ORDER: LEFT_RIGHT/TOP_BOTTOM
BAND_ORGANIZATION: SINGLE FILE
BAND_CONTENT: BLACK&WHITE
BAND_CONTENT: UNDEFINED
BAND_CONTENT: UNDEFINED
BITS_PER_PIXEL: 8
SAMPLES_AND_LINES: 5492 7681
HORIZONTAL_DATUM: NAD83
HORIZONTAL_COORDINATE_SYSTEM: UTM
COORDINATE_ZONE: 12
HORIZONTAL_UNITS: METERS
HORIZONTAL_RESOLUTION: 1.00000
SECONDARY_HORIZONTAL_DATUM: NAD27
XY_ORIGIN: 337643.00000 5367540.00000
SECONDARY_XY_ORIGIN: 337706.29000 5367322.71000
NATION: US
STATE: MT
NW_QUAD_CORNER_XY: 338211.44000 5367239.82000
NE_QUAD_CORNER_XY: 342833.71000 5367109.60000
SE_QUAD_CORNERY_XY: 342640.94000 5360163.05000
SW_QUAD_CORNER_XY: 338012.99000 5360293.30000
SECONDARY_NW_QUAD_XY: 338206.30000 5367020.92000
SECONDARY_NE_QUAD_XY: 342828.72000 5366890.70000
SECONDARY_SE_QUAD_XY: 342635.95000 5359944.16000
SECONDARY_SW_QUAD_XY: 338007.86000 5360074.42000
RMSE_XY: 2.20000
IMAGE_SOURCE: BLACK AND WHITE FILM
SOURCE_IMAGE_ID: NAPP 7607 99
SOURCE_IMAGE_DATE: 1990 7 12
SOURCE_IMAGE_ID: NAPP 7607 7607
SOURCE_IMAGE_DATE: 1990 7 12
SOURCE_IMAGE_ID: NAPP 7607 00
SOURCE_IMAGE_DATE: 1990 7 12
SOURCE_DEM_DATE: 1995 4 27
AGENCY: WESTERN MAPPING CENTER (WMC)
PRODUCER: Science Applications International
PRODUCTION_SYSTEM: GIS/MAGIC
COMPRESSION: UNDEFINED
STANDARD_VERSION: 1996 12
METADATA_DATE: 1997 5 20
DATA_FILE_SIZE: 42189544
BYTE_COUNT: 5492
