FILENAME: O4811339.SWS.46888.tif
QUADRANGLE_NAME: EAST GLACIER PARK
QUADRANT: SW
WEST_LONGITUDE: -113 15 0.00000
EAST_LONGITUDE: -113 11 15.00000
NORTH_LATITUDE: 48 26 15.00000
SOUTH_LATITUDE: 48 22 30.00000
PRODUCTION_DATE: 1994 12 12
RASTER_ORDER: LEFT_RIGHT/TOP_BOTTOM
BAND_ORGANIZATION: SINGLE FILE
BAND_CONTENT: BLACK&WHITE
BAND_CONTENT: UNDEFINED
BAND_CONTENT: UNDEFINED
BITS_PER_PIXEL: 8
SAMPLES_AND_LINES: 5498 7685
HORIZONTAL_DATUM: NAD83
HORIZONTAL_COORDINATE_SYSTEM: UTM
COORDINATE_ZONE: 12
HORIZONTAL_UNITS: METERS
HORIZONTAL_RESOLUTION: 1.00000
SECONDARY_HORIZONTAL_DATUM: NAD27
XY_ORIGIN: 333015.00000 5367674.00000
SECONDARY_XY_ORIGIN: 333078.42300 5367456.70400
NATION: US
STATE: MT
NW_QUAD_CORNER_XY: 333589.18400 5367373.81200
NE_QUAD_CORNER_XY: 338211.43600 5367239.81500
SE_QUAD_CORNERY_XY: 338012.99500 5360293.30200
SW_QUAD_CORNER_XY: 333385.06900 5360427.33400
SECONDARY_NW_QUAD_XY: 333583.89900 5367154.92500
SECONDARY_NE_QUAD_XY: 338206.29800 5367020.92500
SECONDARY_SE_QUAD_XY: 338007.85700 5360074.42100
SECONDARY_SW_QUAD_XY: 333379.78400 5360208.45700
RMSE_XY: 2.80000
IMAGE_SOURCE: BLACK AND WHITE FILM
SOURCE_IMAGE_ID: PAPP 7607 272
SOURCE_IMAGE_DATE: 1990 7 12
SOURCE_DEM_DATE: 1994 12 12
AGENCY: WESTERN MAPPING CENTER (WMC)
PRODUCER: Science Applications International
PRODUCTION_SYSTEM: GIS/MAGIC
COMPRESSION: UNDEFINED
STANDARD_VERSION: 1996 12
METADATA_DATE: 1997 5 20
DATA_FILE_SIZE: 42257628
BYTE_COUNT: 5498
