FILENAME: O4811334.NES.47794.tif
QUADRANGLE_NAME: NYACK
QUADRANT: NE
WEST_LONGITUDE: -113 48 45.00000
EAST_LONGITUDE: -113 45 0.00000
NORTH_LATITUDE: 48 30 0.00000
SOUTH_LATITUDE: 48 26 15.00000
PRODUCTION_DATE: 1994 11 4
RASTER_ORDER: LEFT_RIGHT/TOP_BOTTOM
BAND_ORGANIZATION: SINGLE FILE
BAND_CONTENT: BLACK&WHITE
BAND_CONTENT: UNDEFINED
BAND_CONTENT: UNDEFINED
BITS_PER_PIXEL: 8
SAMPLES_AND_LINES: 5545 7718
HORIZONTAL_DATUM: NAD83
HORIZONTAL_COORDINATE_SYSTEM: UTM
COORDINATE_ZONE: 12
HORIZONTAL_UNITS: METERS
HORIZONTAL_RESOLUTION: 1.00000
SECONDARY_HORIZONTAL_DATUM: NAD27
XY_ORIGIN: 291618.00000 5375996.00000
SECONDARY_XY_ORIGIN: 291681.48000 5375778.18000
NATION: US
STATE: MT
NW_QUAD_CORNER_XY: 292245.51300 5375695.99600
NE_QUAD_CORNER_XY: 296861.84500 5375528.03300
SE_QUAD_CORNERY_XY: 296612.07500 5368581.81000
SW_QUAD_CORNER_XY: 291990.05900 5368749.81700
SECONDARY_NW_QUAD_XY: 292238.90700 5375477.14500
SECONDARY_NE_QUAD_XY: 296855.38500 5375309.17700
SECONDARY_SE_QUAD_XY: 296605.61500 5368362.96200
SECONDARY_SW_QUAD_XY: 291983.45300 5368530.97400
RMSE_XY: 3.80000
IMAGE_SOURCE: BLACK AND WHITE FILM
SOURCE_IMAGE_ID: NAPP 5615 115
SOURCE_IMAGE_DATE: 1991 8 26
SOURCE_DEM_DATE: 1994 11 4
AGENCY: WESTERN MAPPING CENTER (WMC)
PRODUCER: Science Applications International
PRODUCTION_SYSTEM: GIS/MAGIC
COMPRESSION: UNDEFINED
STANDARD_VERSION: 1996 12
METADATA_DATE: 1997 7 28
DATA_FILE_SIZE: 42801855
BYTE_COUNT: 5545
