FILENAME: O4811334.NWS.47795.tif
QUADRANGLE_NAME: NYACK
QUADRANT: NW
WEST_LONGITUDE: -113 52 30.00000
EAST_LONGITUDE: -113 48 45.00000
NORTH_LATITUDE: 48 30 0.00000
SOUTH_LATITUDE: 48 26 15.00000
PRODUCTION_DATE: 1994 11 4
RASTER_ORDER: LEFT_RIGHT/TOP_BOTTOM
BAND_ORGANIZATION: SINGLE FILE
BAND_CONTENT: BLACK&WHITE
BAND_CONTENT: UNDEFINED
BAND_CONTENT: UNDEFINED
BITS_PER_PIXEL: 8
SAMPLES_AND_LINES: 5551 7722
HORIZONTAL_DATUM: NAD83
HORIZONTAL_COORDINATE_SYSTEM: UTM
COORDINATE_ZONE: 12
HORIZONTAL_UNITS: METERS
HORIZONTAL_RESOLUTION: 1.00000
SECONDARY_HORIZONTAL_DATUM: NAD27
XY_ORIGIN: 286996.00000 5376168.00000
SECONDARY_XY_ORIGIN: 287059.45100 5375950.16000
NATION: US
STATE: MT
NW_QUAD_CORNER_XY: 287629.21200 5375867.73800
NE_QUAD_CORNER_XY: 292245.51300 5375695.99600
SE_QUAD_CORNERY_XY: 291990.05900 5368749.81700
SW_QUAD_CORNER_XY: 287368.07400 5368921.60500
SECONDARY_NW_QUAD_XY: 287622.45900 5375648.89300
SECONDARY_NE_QUAD_XY: 292238.90700 5375477.14500
SECONDARY_SE_QUAD_XY: 291983.45300 5368530.97400
SECONDARY_SW_QUAD_XY: 287361.32100 5368702.76800
RMSE_XY: 1.30000
IMAGE_SOURCE: BLACK AND WHITE FILM
SOURCE_IMAGE_ID: NAPP 2634 053
SOURCE_IMAGE_DATE: 1991 8 3
SOURCE_DEM_DATE: 1994 11 4
AGENCY: WESTERN MAPPING CENTER (WMC)
PRODUCER: Science Applications International
PRODUCTION_SYSTEM: GIS/MAGIC
COMPRESSION: UNDEFINED
STANDARD_VERSION: 1996 12
METADATA_DATE: 1997 7 28
DATA_FILE_SIZE: 42870373
BYTE_COUNT: 5551
