FILENAME: O4811329.NWS.47271.tif
QUADRANGLE_NAME: CUT BANK PASS
QUADRANT: NW
WEST_LONGITUDE: -113 30 0.00000
EAST_LONGITUDE: -113 26 15.00000
NORTH_LATITUDE: 48 37 30.00000
SOUTH_LATITUDE: 48 33 45.00000
PRODUCTION_DATE: 1995 4 27
RASTER_ORDER: LEFT_RIGHT/TOP_BOTTOM
BAND_ORGANIZATION: SINGLE FILE
BAND_CONTENT: BLACK&WHITE
BAND_CONTENT: UNDEFINED
BAND_CONTENT: UNDEFINED
BITS_PER_PIXEL: 8
SAMPLES_AND_LINES: 5505 7699
HORIZONTAL_DATUM: NAD83
HORIZONTAL_COORDINATE_SYSTEM: UTM
COORDINATE_ZONE: 12
HORIZONTAL_UNITS: METERS
HORIZONTAL_RESOLUTION: 1.00000
SECONDARY_HORIZONTAL_DATUM: NAD27
XY_ORIGIN: 315184.00000 5389087.00000
SECONDARY_XY_ORIGIN: 315247.21000 5388868.92000
NATION: US
STATE: MT
NW_QUAD_CORNER_XY: 315782.20000 5388786.94000
NE_QUAD_CORNER_XY: 320387.29000 5388637.95000
SE_QUAD_CORNERY_XY: 320165.50000 5381691.39000
SW_QUAD_CORNER_XY: 315554.72000 5381840.42000
SECONDARY_NW_QUAD_XY: 315776.33000 5388568.04000
SECONDARY_NE_QUAD_XY: 320381.56000 5388419.05000
SECONDARY_SE_QUAD_XY: 320159.78000 5381472.50000
SECONDARY_SW_QUAD_XY: 315548.85000 5381621.54000
RMSE_XY: 4.70000
IMAGE_SOURCE: BLACK AND WHITE FILM
SOURCE_IMAGE_ID: NAPP 4614 33
SOURCE_IMAGE_DATE: 1991 8 22
SOURCE_IMAGE_ID: NAPP 4614 4614
SOURCE_IMAGE_DATE: 1991 8 22
SOURCE_IMAGE_ID: NAPP 4614 44
SOURCE_IMAGE_DATE: 1991 8 22
SOURCE_DEM_DATE: 1995 4 27
AGENCY: WESTERN MAPPING CENTER (WMC)
PRODUCER: Science Applications International
PRODUCTION_SYSTEM: GIS/MAGIC
COMPRESSION: UNDEFINED
STANDARD_VERSION: 1996 12
METADATA_DATE: 1997 5 20
DATA_FILE_SIZE: 42388500
BYTE_COUNT: 5505
