FILENAME: O4811328.SES.47453.tif
QUADRANGLE_NAME: MOUNT STIMSON
QUADRANT: SE
WEST_LONGITUDE: -113 33 45.00000
EAST_LONGITUDE: -113 30 0.00000
NORTH_LATITUDE: 48 33 45.00000
SOUTH_LATITUDE: 48 30 0.00000
PRODUCTION_DATE: 1995 4 27
RASTER_ORDER: LEFT_RIGHT/TOP_BOTTOM
BAND_ORGANIZATION: SINGLE FILE
BAND_CONTENT: BLACK&WHITE
BAND_CONTENT: UNDEFINED
BAND_CONTENT: UNDEFINED
BITS_PER_PIXEL: 8
SAMPLES_AND_LINES: 5516 7704
HORIZONTAL_DATUM: NAD83
HORIZONTAL_COORDINATE_SYSTEM: UTM
COORDINATE_ZONE: 12
HORIZONTAL_UNITS: METERS
HORIZONTAL_RESOLUTION: 1.00000
SECONDARY_HORIZONTAL_DATUM: NAD27
XY_ORIGIN: 310340.00000 5382294.00000
SECONDARY_XY_ORIGIN: 310403.37000 5382076.15000
NATION: US
STATE: MT
NW_QUAD_CORNER_XY: 310943.96000 5381993.23000
NE_QUAD_CORNER_XY: 315554.72000 5381840.42000
SE_QUAD_CORNERY_XY: 315327.46000 5374893.97000
SW_QUAD_CORNER_XY: 310711.01000 5375046.82000
SECONDARY_NW_QUAD_XY: 310937.94000 5381774.35000
SECONDARY_NE_QUAD_XY: 315548.85000 5381621.54000
SECONDARY_SE_QUAD_XY: 315321.59000 5374675.09000
SECONDARY_SW_QUAD_XY: 310704.99000 5374827.95000
RMSE_XY: 5.90000
IMAGE_SOURCE: BLACK AND WHITE FILM
SOURCE_IMAGE_ID: NAPP 5615 44
SOURCE_IMAGE_DATE: 1991 8 26
SOURCE_IMAGE_ID: NAPP 5615 5615
SOURCE_IMAGE_DATE: 1991 8 26
SOURCE_IMAGE_ID: NAPP 5615 55
SOURCE_IMAGE_DATE: 1991 8 26
SOURCE_IMAGE_ID: NAPP 5615 5615
SOURCE_IMAGE_DATE: 1991 8 26
SOURCE_IMAGE_ID: NAPP 5615 33
SOURCE_IMAGE_DATE: 1991 8 26
SOURCE_DEM_DATE: 1995 4 27
AGENCY: WESTERN MAPPING CENTER (WMC)
PRODUCER: Science Applications International
PRODUCTION_SYSTEM: GIS/MAGIC
COMPRESSION: UNDEFINED
STANDARD_VERSION: 1996 12
METADATA_DATE: 1997 5 20
DATA_FILE_SIZE: 42500780
BYTE_COUNT: 5516
