FILENAME: O4811325.NES.47929.tif
QUADRANGLE_NAME: LAKE MCDONALD WEST
QUADRANT: NE
WEST_LONGITUDE: -113 56 15.00000
EAST_LONGITUDE: -113 52 30.00000
NORTH_LATITUDE: 48 37 30.00000
SOUTH_LATITUDE: 48 33 45.00000
PRODUCTION_DATE: 1994 11 4
RASTER_ORDER: LEFT_RIGHT/TOP_BOTTOM
BAND_ORGANIZATION: SINGLE FILE
BAND_CONTENT: BLACK&WHITE
BAND_CONTENT: UNDEFINED
BAND_CONTENT: UNDEFINED
BITS_PER_PIXEL: 8
SAMPLES_AND_LINES: 5546 7725
HORIZONTAL_DATUM: NAD83
HORIZONTAL_COORDINATE_SYSTEM: UTM
COORDINATE_ZONE: 12
HORIZONTAL_UNITS: METERS
HORIZONTAL_RESOLUTION: 1.00000
SECONDARY_HORIZONTAL_DATUM: NAD27
XY_ORIGIN: 282908.00000 5390236.00000
SECONDARY_XY_ORIGIN: 282971.47800 5390017.74700
NATION: US
STATE: MT
NW_QUAD_CORNER_XY: 283547.36800 5389935.60300
NE_QUAD_CORNER_XY: 288152.25200 5389760.17600
SE_QUAD_CORNERY_XY: 287890.60500 5382813.92900
SW_QUAD_CORNER_XY: 283280.02500 5382989.40400
SECONDARY_NW_QUAD_XY: 283540.46700 5389716.74900
SECONDARY_NE_QUAD_XY: 288145.49800 5389541.31700
SECONDARY_SE_QUAD_XY: 287883.85100 5382595.07600
SECONDARY_SW_QUAD_XY: 283273.12500 5382770.55600
RMSE_XY: 4.10000
IMAGE_SOURCE: BLACK AND WHITE FILM
SOURCE_IMAGE_ID: NAPP 2634 062
SOURCE_IMAGE_DATE: 1991 8 3
SOURCE_DEM_DATE: 1994 11 4
AGENCY: WESTERN MAPPING CENTER (WMC)
PRODUCER: Science Applications International
PRODUCTION_SYSTEM: GIS/MAGIC
COMPRESSION: UNDEFINED
STANDARD_VERSION: 1996 12
METADATA_DATE: 1997 7 28
DATA_FILE_SIZE: 42848396
BYTE_COUNT: 5546
