FILENAME: O4811324.NWS.46707.tif
QUADRANGLE_NAME: BROWNING NE
QUADRANT: NW
WEST_LONGITUDE: -113 7 30.00000
EAST_LONGITUDE: -113 3 45.00000
NORTH_LATITUDE: 48 45 0.00000
SOUTH_LATITUDE: 48 41 15.00000
PRODUCTION_DATE: 1994 12 12
RASTER_ORDER: LEFT_RIGHT/TOP_BOTTOM
BAND_ORGANIZATION: SINGLE FILE
BAND_CONTENT: BLACK&WHITE
BAND_CONTENT: UNDEFINED
BAND_CONTENT: UNDEFINED
BITS_PER_PIXEL: 8
SAMPLES_AND_LINES: 5459 7677
HORIZONTAL_DATUM: NAD83
HORIZONTAL_COORDINATE_SYSTEM: UTM
COORDINATE_ZONE: 12
HORIZONTAL_UNITS: METERS
HORIZONTAL_RESOLUTION: 1.00000
SECONDARY_HORIZONTAL_DATUM: NAD27
XY_ORIGIN: 343237.00000 5402144.00000
SECONDARY_XY_ORIGIN: 343300.31900 5401925.64100
NATION: US
STATE: MT
NW_QUAD_CORNER_XY: 343800.36400 5401843.31000
NE_QUAD_CORNER_XY: 348394.20900 5401717.04000
SE_QUAD_CORNERY_XY: 348206.20500 5394770.13100
SW_QUAD_CORNER_XY: 343606.65800 5394896.43600
SECONDARY_NW_QUAD_XY: 343795.37200 5401624.38100
SECONDARY_NE_QUAD_XY: 348389.36400 5401498.10800
SECONDARY_SE_QUAD_XY: 348201.36000 5394551.20400
SECONDARY_SW_QUAD_XY: 343601.66600 5394677.51300
RMSE_XY: 0.50000
IMAGE_SOURCE: BLACK AND WHITE FILM
SOURCE_IMAGE_ID: NAPP 2607 038
SOURCE_IMAGE_DATE: 1990 7 12
SOURCE_DEM_DATE: 1994 12 12
AGENCY: WESTERN MAPPING CENTER (WMC)
PRODUCER: Science Applications International
PRODUCTION_SYSTEM: GIS/MAGIC
COMPRESSION: UNDEFINED
STANDARD_VERSION: 1996 12
METADATA_DATE: 1997 7 4
DATA_FILE_SIZE: 41914202
BYTE_COUNT: 5459
