FILENAME: O4811323.NWS.46878.tif
QUADRANGLE_NAME: HORSE LAKE
QUADRANT: NW
WEST_LONGITUDE: -113 15 0.00000
EAST_LONGITUDE: -113 11 15.00000
NORTH_LATITUDE: 48 45 0.00000
SOUTH_LATITUDE: 48 41 15.00000
PRODUCTION_DATE: 1994 11 18
RASTER_ORDER: LEFT_RIGHT/TOP_BOTTOM
BAND_ORGANIZATION: SINGLE FILE
BAND_CONTENT: BLACK&WHITE
BAND_CONTENT: UNDEFINED
BAND_CONTENT: UNDEFINED
BITS_PER_PIXEL: 8
SAMPLES_AND_LINES: 5471 7685
HORIZONTAL_DATUM: NAD83
HORIZONTAL_COORDINATE_SYSTEM: UTM
COORDINATE_ZONE: 12
HORIZONTAL_UNITS: METERS
HORIZONTAL_RESOLUTION: 1.00000
SECONDARY_HORIZONTAL_DATUM: NAD27
XY_ORIGIN: 334037.00000 5402408.00000
SECONDARY_XY_ORIGIN: 334100.46400 5402189.63900
NATION: US
STATE: MT
NW_QUAD_CORNER_XY: 334612.74500 5402107.16500
NE_QUAD_CORNER_XY: 339206.54200 5401973.35100
SE_QUAD_CORNERY_XY: 339007.13400 5395026.51400
SW_QUAD_CORNER_XY: 334407.63600 5395160.36600
SECONDARY_NW_QUAD_XY: 334607.46000 5401888.24500
SECONDARY_NE_QUAD_XY: 339201.40300 5401754.42700
SECONDARY_SE_QUAD_XY: 339001.99600 5394807.59500
SECONDARY_SW_QUAD_XY: 334402.35000 5394941.45100
RMSE_XY: 0.50000
IMAGE_SOURCE: BLACK AND WHITE FILM
SOURCE_IMAGE_ID: NAPP 2607 082
SOURCE_IMAGE_DATE: 1990 7 12
SOURCE_DEM_DATE: 1994 11 18
AGENCY: WESTERN MAPPING CENTER (WMC)
PRODUCER: Science Applications International
PRODUCTION_SYSTEM: GIS/MAGIC
COMPRESSION: UNDEFINED
STANDARD_VERSION: 1996 12
METADATA_DATE: 1997 7 4
DATA_FILE_SIZE: 42050106
BYTE_COUNT: 5471
