FILENAME: O4811322.NWS.47077.tif
QUADRANGLE_NAME: FOX CREEK
QUADRANT: NW
WEST_LONGITUDE: -113 22 30.00000
EAST_LONGITUDE: -113 18 45.00000
NORTH_LATITUDE: 48 45 0.00000
SOUTH_LATITUDE: 48 41 15.00000
PRODUCTION_DATE: 1994 11 18
RASTER_ORDER: LEFT_RIGHT/TOP_BOTTOM
BAND_ORGANIZATION: SINGLE FILE
BAND_CONTENT: BLACK&WHITE
BAND_CONTENT: UNDEFINED
BAND_CONTENT: UNDEFINED
BITS_PER_PIXEL: 8
SAMPLES_AND_LINES: 5482 7692
HORIZONTAL_DATUM: NAD83
HORIZONTAL_COORDINATE_SYSTEM: UTM
COORDINATE_ZONE: 12
HORIZONTAL_UNITS: METERS
HORIZONTAL_RESOLUTION: 1.00000
SECONDARY_HORIZONTAL_DATUM: NAD27
XY_ORIGIN: 324838.00000 5402687.00000
SECONDARY_XY_ORIGIN: 324901.19800 5402468.45500
NATION: US
STATE: MT
NW_QUAD_CORNER_XY: 325425.23000 5402386.11100
NE_QUAD_CORNER_XY: 330018.97400 5402244.75100
SE_QUAD_CORNERY_XY: 329808.16200 5395297.99100
SW_QUAD_CORNER_XY: 325208.71500 5395439.39100
SECONDARY_NW_QUAD_XY: 325419.65000 5402167.20000
SECONDARY_NE_QUAD_XY: 330013.54200 5402025.83600
SECONDARY_SE_QUAD_XY: 329802.73000 5395079.08100
SECONDARY_SW_QUAD_XY: 325203.13600 5395220.48500
RMSE_XY: 2.00000
IMAGE_SOURCE: BLACK AND WHITE FILM
SOURCE_IMAGE_ID: NAPP 2615 045
SOURCE_IMAGE_DATE: 1990 9 3
SOURCE_DEM_DATE: 1994 11 18
AGENCY: WESTERN MAPPING CENTER (WMC)
PRODUCER: Science Applications International
PRODUCTION_SYSTEM: GIS/MAGIC
COMPRESSION: UNDEFINED
STANDARD_VERSION: 1996 12
METADATA_DATE: 1997 7 4
DATA_FILE_SIZE: 42173026
BYTE_COUNT: 5482
