FILENAME: O4811322.SWS.47079.tif
QUADRANGLE_NAME: FOX CREEK
QUADRANT: SW
WEST_LONGITUDE: -113 22 30.00000
EAST_LONGITUDE: -113 18 45.00000
NORTH_LATITUDE: 48 41 15.00000
SOUTH_LATITUDE: 48 37 30.00000
PRODUCTION_DATE: 1994 11 18
RASTER_ORDER: LEFT_RIGHT/TOP_BOTTOM
BAND_ORGANIZATION: SINGLE FILE
BAND_CONTENT: BLACK&WHITE
BAND_CONTENT: UNDEFINED
BAND_CONTENT: UNDEFINED
BITS_PER_PIXEL: 8
SAMPLES_AND_LINES: 5488 7692
HORIZONTAL_DATUM: NAD83
HORIZONTAL_COORDINATE_SYSTEM: UTM
COORDINATE_ZONE: 12
HORIZONTAL_UNITS: METERS
HORIZONTAL_RESOLUTION: 1.00000
SECONDARY_HORIZONTAL_DATUM: NAD27
XY_ORIGIN: 324622.00000 5395740.00000
SECONDARY_XY_ORIGIN: 324685.26500 5395521.72400
NATION: US
STATE: MT
NW_QUAD_CORNER_XY: 325208.71500 5395439.39100
NE_QUAD_CORNER_XY: 329808.16200 5395297.99100
SE_QUAD_CORNERY_XY: 329597.55400 5388351.29500
SW_QUAD_CORNER_XY: 324992.40900 5388492.73300
SECONDARY_NW_QUAD_XY: 325203.13600 5395220.48500
SECONDARY_NE_QUAD_XY: 329802.73000 5395079.08100
SECONDARY_SE_QUAD_XY: 329592.12200 5388132.39000
SECONDARY_SW_QUAD_XY: 324986.83000 5388273.83300
RMSE_XY: 1.60000
IMAGE_SOURCE: BLACK AND WHITE FILM
SOURCE_IMAGE_ID: NAPP 2615 043
SOURCE_IMAGE_DATE: 1990 9 3
SOURCE_DEM_DATE: 1994 11 18
AGENCY: WESTERN MAPPING CENTER (WMC)
PRODUCER: Science Applications International
PRODUCTION_SYSTEM: GIS/MAGIC
COMPRESSION: UNDEFINED
STANDARD_VERSION: 1996 12
METADATA_DATE: 1997 7 4
DATA_FILE_SIZE: 42219184
BYTE_COUNT: 5488
