FILENAME: O4811320.NES.47447.tif
QUADRANGLE_NAME: RISING SUN
QUADRANT: NE
WEST_LONGITUDE: -113 33 45.00000
EAST_LONGITUDE: -113 30 0.00000
NORTH_LATITUDE: 48 45 0.00000
SOUTH_LATITUDE: 48 41 15.00000
PRODUCTION_DATE: 1995 5 1
RASTER_ORDER: LEFT_RIGHT/TOP_BOTTOM
BAND_ORGANIZATION: SINGLE FILE
BAND_CONTENT: BLACK&WHITE
BAND_CONTENT: UNDEFINED
BAND_CONTENT: UNDEFINED
BITS_PER_PIXEL: 8
SAMPLES_AND_LINES: 5499 7702
HORIZONTAL_DATUM: NAD83
HORIZONTAL_COORDINATE_SYSTEM: UTM
COORDINATE_ZONE: 12
HORIZONTAL_UNITS: METERS
HORIZONTAL_RESOLUTION: 1.00000
SECONDARY_HORIZONTAL_DATUM: NAD27
XY_ORIGIN: 311040.00000 5403133.00000
SECONDARY_XY_ORIGIN: 311103.10000 5402914.26000
NATION: US
STATE: MT
NW_QUAD_CORNER_XY: 311644.16000 5402832.83000
NE_QUAD_CORNER_XY: 316237.82000 5402680.15000
SE_QUAD_CORNERY_XY: 316009.90000 5395733.51000
SW_QUAD_CORNER_XY: 311410.53000 5395886.23000
SECONDARY_NW_QUAD_XY: 311638.14000 5402613.93000
SECONDARY_NE_QUAD_XY: 316231.95000 5402461.25000
SECONDARY_SE_QUAD_XY: 316004.03000 5395514.62000
SECONDARY_SW_QUAD_XY: 311404.51000 5395667.34000
RMSE_XY: 6.30000
IMAGE_SOURCE: BLACK AND WHITE FILM
SOURCE_IMAGE_ID: NAPP 5615 88
SOURCE_IMAGE_DATE: 1991 8 26
SOURCE_IMAGE_ID: NAPP 5615 5615
SOURCE_IMAGE_DATE: 1991 8 26
SOURCE_IMAGE_ID: NAPP 5615 77
SOURCE_IMAGE_DATE: 1991 8 26
SOURCE_DEM_DATE: 1995 5 1
AGENCY: WESTERN MAPPING CENTER (WMC)
PRODUCER: Science Applications International
PRODUCTION_SYSTEM: GIS/MAGIC
COMPRESSION: UNDEFINED
STANDARD_VERSION: 1996 12
METADATA_DATE: 1997 5 20
DATA_FILE_SIZE: 42358797
BYTE_COUNT: 5499
