FILENAME: O4811320.SES.47449.tif
QUADRANGLE_NAME: RISING SUN
QUADRANT: SE
WEST_LONGITUDE: -113 33 45.00000
EAST_LONGITUDE: -113 30 0.00000
NORTH_LATITUDE: 48 41 15.00000
SOUTH_LATITUDE: 48 37 30.00000
PRODUCTION_DATE: 1995 5 1
RASTER_ORDER: LEFT_RIGHT/TOP_BOTTOM
BAND_ORGANIZATION: SINGLE FILE
BAND_CONTENT: BLACK&WHITE
BAND_CONTENT: UNDEFINED
BAND_CONTENT: UNDEFINED
BITS_PER_PIXEL: 8
SAMPLES_AND_LINES: 5505 7703
HORIZONTAL_DATUM: NAD83
HORIZONTAL_COORDINATE_SYSTEM: UTM
COORDINATE_ZONE: 12
HORIZONTAL_UNITS: METERS
HORIZONTAL_RESOLUTION: 1.00000
SECONDARY_HORIZONTAL_DATUM: NAD27
XY_ORIGIN: 310806.00000 5396187.00000
SECONDARY_XY_ORIGIN: 310869.19000 5395968.56000
NATION: US
STATE: MT
NW_QUAD_CORNER_XY: 311410.53000 5395886.23000
NE_QUAD_CORNER_XY: 316009.90000 5395733.51000
SE_QUAD_CORNERY_XY: 315782.20000 5388786.94000
SW_QUAD_CORNER_XY: 311177.13000 5388939.70000
SECONDARY_NW_QUAD_XY: 311404.51000 5395667.34000
SECONDARY_NE_QUAD_XY: 316004.03000 5395514.62000
SECONDARY_SE_QUAD_XY: 315776.33000 5388568.04000
SECONDARY_SW_QUAD_XY: 311171.11000 5388720.82000
RMSE_XY: 2.00000
IMAGE_SOURCE: BLACK AND WHITE FILM
SOURCE_IMAGE_ID: NAPP 5615 00
SOURCE_IMAGE_DATE: 1991 8 26
SOURCE_IMAGE_ID: NAPP 5615 5615
SOURCE_IMAGE_DATE: 1991 8 26
SOURCE_IMAGE_ID: NAPP 5615 11
SOURCE_IMAGE_DATE: 1991 8 26
SOURCE_IMAGE_ID: NAPP 5615 5615
SOURCE_IMAGE_DATE: 1991 8 26
SOURCE_IMAGE_ID: NAPP 5615 99
SOURCE_IMAGE_DATE: 1991 8 26
SOURCE_DEM_DATE: 1995 5 1
AGENCY: WESTERN MAPPING CENTER (WMC)
PRODUCER: Science Applications International
PRODUCTION_SYSTEM: GIS/MAGIC
COMPRESSION: UNDEFINED
STANDARD_VERSION: 1996 12
METADATA_DATE: 1997 5 20
DATA_FILE_SIZE: 42410520
BYTE_COUNT: 5505
